BEGIN:VCALENDAR
VERSION:2.0
PRODID:-//ChamberMaster//Event Calendar 2.0//EN
METHOD:PUBLISH
X-PUBLISHED-TTL:P3D
REFRESH-INTERVAL:P3D
CALSCALE:GREGORIAN
BEGIN:VEVENT
DTSTART:20130315T123000Z
DTEND:20130315T133000Z
X-MICROSOFT-CDO-ALLDAYEVENT:FALSE
SUMMARY:Coffee With Colleagues - Grayco
DESCRIPTION:
X-ALT-DESC;FMTTYPE=text/html:
LOCATION:Grayco\, 136 Sea Island Parkway\, Beaufort\, SC
UID:e.1212.4660
SEQUENCE:3
DTSTAMP:20260422T065800Z
URL:http://business.beaufortchamber.org/events/details/coffee-with-colleagues-grayco-03-15-2013-4660
END:VEVENT

END:VCALENDAR
