BEGIN:VCALENDAR
VERSION:2.0
PRODID:-//ChamberMaster//Event Calendar 2.0//EN
METHOD:PUBLISH
X-PUBLISHED-TTL:P3D
REFRESH-INTERVAL:P3D
CALSCALE:GREGORIAN
BEGIN:VEVENT
DTSTART:20130517T123000Z
DTEND:20130517T133000Z
X-MICROSOFT-CDO-ALLDAYEVENT:FALSE
SUMMARY:Coffee With Colleagues - Island Travel
DESCRIPTION:Come help Island Travel celebrate their 30th Anniversary serving the Lowcountry.
X-ALT-DESC;FMTTYPE=text/html:Come help Island Travel celebrate their 30th Anniversary serving the Lowcountry.
LOCATION:Island Travel Office - 12 Fairfied Road\, Unit 5-B\, Beaufort SC 29907
UID:e.1212.4724
SEQUENCE:3
DTSTAMP:20260422T051023Z
URL:http://business.beaufortchamber.org/events/details/coffee-with-colleagues-island-travel-05-17-2013-4724
END:VEVENT

END:VCALENDAR
