BEGIN:VCALENDAR
VERSION:2.0
PRODID:-//ChamberMaster//Event Calendar 2.0//EN
METHOD:PUBLISH
X-PUBLISHED-TTL:P3D
REFRESH-INTERVAL:P3D
CALSCALE:GREGORIAN
BEGIN:VEVENT
DTSTART:20130719T123000Z
DTEND:20130719T133000Z
X-MICROSOFT-CDO-ALLDAYEVENT:FALSE
SUMMARY:Coffee with Colleagues - Sonic - Cross Creek Shopping Ctr
DESCRIPTION:Sonic Drive-In\, 340 Robert Smalls Parkway\, Beaufort\n\n\n\nFree Networking Experience.
X-ALT-DESC;FMTTYPE=text/html:<span style="line-height: 115%\; font-family: &quot\;Calibri&quot\;\,&quot\;sans-serif&quot\;\; font-size: 11pt\; mso-fareast-font-family: Calibri\; mso-ansi-language: EN-US\; mso-fareast-language: EN-US\; mso-bidi-language: AR-SA\; mso-fareast-theme-font: minor-latin\; mso-ascii-theme-font: minor-latin\; mso-hansi-theme-font: minor-latin\; mso-bidi-font-family: &quot\;Times New Roman&quot\;\; mso-bidi-theme-font: minor-bidi\;"><font color="#000000">Sonic Drive-In\, 340 Robert Smalls Parkway\, Beaufort</font></span><br />\n<br />\nFree Networking Experience.
LOCATION:
UID:e.1212.4997
SEQUENCE:3
DTSTAMP:20260421T232246Z
URL:http://business.beaufortchamber.org/events/details/coffee-with-colleagues-sonic-cross-creek-shopping-ctr-07-19-2013-4997
END:VEVENT

END:VCALENDAR
