BEGIN:VCALENDAR
VERSION:2.0
PRODID:-//ChamberMaster//Event Calendar 2.0//EN
METHOD:PUBLISH
X-PUBLISHED-TTL:P3D
REFRESH-INTERVAL:P3D
CALSCALE:GREGORIAN
BEGIN:VEVENT
DTSTART:20130816T123000Z
DTEND:20130816T133000Z
X-MICROSOFT-CDO-ALLDAYEVENT:FALSE
SUMMARY:Coffee with Colleagues - UPS - Cross Creek Shopping Center
DESCRIPTION:
X-ALT-DESC;FMTTYPE=text/html:
LOCATION:
UID:e.1212.4998
SEQUENCE:3
DTSTAMP:20260421T214322Z
URL:http://business.beaufortchamber.org/events/details/coffee-with-colleagues-ups-cross-creek-shopping-center-08-16-2013-4998
END:VEVENT

END:VCALENDAR
