BEGIN:VCALENDAR
VERSION:2.0
PRODID:-//ChamberMaster//Event Calendar 2.0//EN
METHOD:PUBLISH
X-PUBLISHED-TTL:P3D
REFRESH-INTERVAL:P3D
CALSCALE:GREGORIAN
BEGIN:VEVENT
DTSTART;VALUE=DATE:20091123
DTEND;VALUE=DATE:20091124
TRANSP:TRANSPARENT
X-MICROSOFT-CDO-ALLDAYEVENT:TRUE
SUMMARY:Cold Weather Bicycling Workshop
DESCRIPTION:Come learn the basics of how to enjoy cold-weather.  John Feeser\, owner of Lowcountry Bicycles will present a workshop on issues such as how to dress for warmth on short and long rides\, safety accessories for your bicycle\, and safe cycling on Lowcountry roads.  Cost is free\, but pre-registration is required as seating is limited.  Call 524.9585\, stop by and register in person or email john@lowcountrybicycles.com
X-ALT-DESC;FMTTYPE=text/html:Come learn the basics of how to enjoy cold-weather.  John Feeser\, owner of Lowcountry Bicycles will present a workshop on issues such as how to dress for warmth on short and long rides\, safety accessories for your bicycle\, and safe cycling on Lowcountry roads.  Cost is free\, but pre-registration is required as seating is limited.  Call 524.9585\, stop by and register in person or email john@lowcountrybicycles.com
LOCATION:
UID:e.1212.3702
SEQUENCE:3
DTSTAMP:20260424T204800Z
URL:http://business.beaufortchamber.org/events/details/cold-weather-bicycling-workshop-11-23-2009-3702
END:VEVENT

END:VCALENDAR
