BEGIN:VCALENDAR
VERSION:2.0
PRODID:-//ChamberMaster//Event Calendar 2.0//EN
METHOD:PUBLISH
X-PUBLISHED-TTL:P3D
REFRESH-INTERVAL:P3D
CALSCALE:GREGORIAN
BEGIN:VEVENT
DTSTART:20130502T110000Z
DTEND:20130502T120000Z
X-MICROSOFT-CDO-ALLDAYEVENT:FALSE
SUMMARY:Community -wide Prayer Breakfast
DESCRIPTION:FREE COMMUNITY-WIDE \n\nPRAYER BREAKFAST \n\n \n\n \n\nTHURSDAY\, MAY 2 7AM   YMCA GYMNASIUM 1801 Richmond Ave.\, Port Royal \n\nIn honor of the National Day of Prayer \n\n \n\n \n\nFood graciously provided by The Link Church
X-ALT-DESC;FMTTYPE=text/html:<span style="font-family: verdana\;"><strong><span style="font-size: 22pt\;">FREE COMMUNITY-WIDE </span></strong></span><br />\n<span style="font-size: 24px\;"><span style="font-family: verdana\;"><strong>PRAYER BREAKFAST </strong></span></span><br />\n&nbsp\;<br />\n&nbsp\;<br />\n<span style="font-family: verdana\;"><strong><span style="font-size: 22pt\;"><span style="color: windowtext\;">THURSDAY\, MAY 2 7AM &middot\; </span></span></strong></span><strong><span style="font-size: 20pt\;"><span style="color: windowtext\;">YMCA GYMNASIUM 1801 Richmond Ave.\, Port Royal </span></span></strong><br />\n<span style="font-family: verdana\;"><strong><span style="font-size: 20pt\;"><span style="color: windowtext\;">In honor of the National Day of Prayer </span></span></strong></span><br />\n&nbsp\;<br />\n&nbsp\;<br />\n<span style="font-family: times new roman\;"><strong><span style="font-size: 14pt\;">Food graciously provided by The Link Church</span></strong></span><br />\n
LOCATION:YMCA Gymnasium\, 1801 Richmond Ave.\, Port Royal
UID:e.1212.4982
SEQUENCE:3
DTSTAMP:20260422T030954Z
URL:http://business.beaufortchamber.org/events/details/community-wide-prayer-breakfast-05-02-2013-4982
END:VEVENT

END:VCALENDAR
