BEGIN:VCALENDAR
VERSION:2.0
PRODID:-//ChamberMaster//Event Calendar 2.0//EN
METHOD:PUBLISH
X-PUBLISHED-TTL:P3D
REFRESH-INTERVAL:P3D
CALSCALE:GREGORIAN
BEGIN:VEVENT
DTSTART:20130305T230000Z
DTEND:20130306T010000Z
X-MICROSOFT-CDO-ALLDAYEVENT:FALSE
SUMMARY:Concert - Parish Church of St. Helenas
DESCRIPTION:Special Performance\n\nfeaturing\n\n \n\nLes Petits Chanteurs de Nogent-su-Marne\n\n \n\n \n\nTuesday\, March 5 at 6 pm\n\nat the Parish Church of St. Helena\, Beaufort\n\n \n\n \n\n\n	\n		\n			\n				 \n\n				\n\n				Since 1953\, the small singers of Nogent\, known also as the Sparrows du Val-de-Marne\, roam through France and the world while singing. The small singers of Nogent remain one of the few choirs of children in France composed of only boys. It offers its singers from 7 to 20 years a single project through singing\, group life and tours\, in France and abroad.\n\n				 \n\n				Concerts\, television shows\, singing\, touring\, galas for humanitarian causes and religious ceremonies punctuate the lives of these young boys. They also regularly  sing in concert the great works of  Handel's Messiah\, Mozart's Requiem and Vivaldi's Gloria in prestigious places.\n\n				 \n\n				The year 2013 will mark the sixtieth anniversary of the small singers of Nogent..  It will be marked by various events that perfectly illustrate the life of a sparrow\,  including performing concerts this month in the United States.\n\n				 \n\n				 \n\n				Please note that this is a free concert\, but voluntary contributions to help defray travel expenses are greatly appreciated.\n\n				 \n\n				For further information\, please call \n\n				Pat Gould at 843-364-9552
X-ALT-DESC;FMTTYPE=text/html:<strong><span style="font-size: 22pt\;"><span style="font-family: arial\,sans-serif\;"><span style="color: rgb(0\, 0\, 64)\;">Special Performance</span></span></span></strong><br />\n<strong><span style="font-size: 13.5pt\;"><span style="font-family: arial\,sans-serif\;"><span style="color: rgb(0\, 0\, 64)\;">featuring</span></span></span></strong><br />\n&nbsp\;<br />\n<em><strong><span style="font-size: 18pt\;"><span style="font-family: arial\,sans-serif\;"><span style="color: rgb(0\, 0\, 64)\;">Les Petits Chanteurs de Nogent-su-Marne</span></span></span></strong></em><br />\n&nbsp\;<br />\n&nbsp\;<br />\n<span style="font-size: 18pt\;"><span style="font-family: arial\,sans-serif\;"><span style="color: black\;">Tuesday\, March 5 at 6 pm</span></span></span><br />\n<span style="font-size: 18pt\;"><span style="font-family: arial\,sans-serif\;"><span style="color: black\;">at the Parish Church of St. Helena\, Beaufort</span></span></span><br />\n&nbsp\;<br />\n&nbsp\;<br />\n<table align="center" border="1" cellpadding="0" cellspacing="0" style="border: currentColor\; width: 437px\; border-collapse: collapse\;" width="437">\n	<tbody>\n		<tr>\n			<td style="padding: 0in 5.4pt\; border: 1pt solid windowtext\; width: 590px\; vertical-align: top\;">\n				&nbsp\;<br />\n				<br />\n				<span style="font-size: medium\;"><span style="font-family: arial\,sans-serif\;"><span style="color: rgb(128\, 0\, 64)\;">Since 1953\, the small singers of Nogent\, known also as the <em><span style="font-family: arial\,sans-serif\;">Sparrows du Val-de-Marne</span></em></span>\, roam through France and the world while singing. </span></span><span style="font-family: arial\,sans-serif\;"><span style="color: rgb(128\, 0\, 64)\;">The small singers of Nogent remain one of the few choirs of children in France composed of only boys. It offers its singers from 7 to 20 years a single project through singing\, group life and tours\, in France and abroad.</span></span><br />\n				&nbsp\;<br />\n				<span style="font-size: medium\;"><span style="font-family: arial\,sans-serif\;"><span style="color: rgb(128\, 0\, 64)\;">Concerts\, television shows\, singing\, touring\, galas for humanitarian causes and religious ceremonies punctuate the lives of these young boys. They also regularly&nbsp\; sing in concert the great works of&nbsp\; Handel&#39\;s Messiah\, Mozart&#39\;s Requiem and Vivaldi&#39\;s Gloria in prestigious places.</span></span></span><br />\n				&nbsp\;<br />\n				<span style="font-size: medium\;"><span style="font-family: arial\,sans-serif\;"><span style="color: rgb(128\, 0\, 64)\;">The year 2013 will mark the sixtieth anniversary of the small singers of Nogent..&nbsp\; It will be marked by various events that perfectly illustrate the life of a sparrow\,&nbsp\; including performing concerts this month in the United States.</span></span></span><br />\n				&nbsp\;<br />\n				&nbsp\;<br />\n				<span style="font-size: medium\;"><span style="font-family: arial\,sans-serif\;"><span style="color: rgb(128\, 0\, 64)\;">Please note that this is a free concert\, but voluntary contributions to help defray travel expenses are greatly appreciated.</span></span></span><br />\n				&nbsp\;<br />\n				<span style="font-size: medium\;"><span style="font-family: arial\,sans-serif\;"><span style="color: rgb(128\, 0\, 64)\;">For further information\, please call </span></span></span><br />\n				<span style="font-size: medium\;"><span style="font-family: arial\,sans-serif\;"><span style="color: rgb(128\, 0\, 64)\;">Pat Gould at 843-364-9552</span></span></span><br />\n				&nbsp\;</td>\n		</tr>\n	</tbody>\n</table>\n<div style="clear: both\;">\n	&nbsp\;</div>\n
LOCATION:Parish Church of St. Helenas\, Beaufort\, SC
UID:e.1212.4925
SEQUENCE:3
DTSTAMP:20260422T070354Z
URL:http://business.beaufortchamber.org/events/details/concert-parish-church-of-st-helenas-03-05-2013-4925
END:VEVENT

END:VCALENDAR
