BEGIN:VCALENDAR
VERSION:2.0
PRODID:-//ChamberMaster//Event Calendar 2.0//EN
METHOD:PUBLISH
X-PUBLISHED-TTL:P3D
REFRESH-INTERVAL:P3D
CALSCALE:GREGORIAN
BEGIN:VEVENT
DTSTART;VALUE=DATE:20090822
DTEND;VALUE=DATE:20090823
TRANSP:TRANSPARENT
X-MICROSOFT-CDO-ALLDAYEVENT:TRUE
SUMMARY:Congressman Joe Wilson Town Hall Meeting
DESCRIPTION:This is an excellent opportunity for Congressman Wilson to share with you the issues he has been working on in Congress and around South Carolina - including health care reform - and to hear your questions\, concerns and ideas. Questions regarding this town hall - contact Preston Grisham at 803-939-0041
X-ALT-DESC;FMTTYPE=text/html:This is an excellent opportunity for Congressman Wilson to share with you the issues he has been working on in Congress and around South Carolina - including health care reform - and to hear your questions\, concerns and ideas. Questions regarding this town hall - contact Preston Grisham at 803-939-0041
LOCATION:
UID:e.1212.3494
SEQUENCE:3
DTSTAMP:20260425T010759Z
URL:http://business.beaufortchamber.org/events/details/congressman-joe-wilson-town-hall-meeting-08-22-2009-3494
END:VEVENT

END:VCALENDAR
