BEGIN:VCALENDAR
VERSION:2.0
PRODID:-//ChamberMaster//Event Calendar 2.0//EN
METHOD:PUBLISH
X-PUBLISHED-TTL:P3D
REFRESH-INTERVAL:P3D
CALSCALE:GREGORIAN
BEGIN:VEVENT
DTSTART:20120213T043000Z
DTEND:20120213T043000Z
X-MICROSOFT-CDO-ALLDAYEVENT:FALSE
SUMMARY:Cooks & Books
DESCRIPTION:Mark your calendar today for the 6th Annual Literacy Volunteers of the Lowcountry's  Cooks & Books celebration set for Sunday\, February 12\, 2012 from 11:30-3:00 PM at the Westin Hilton Head Island Resort & Spa!  \n\n	 \n\n	The afternoon promises the perfect recipe for curing the mid-winter blahs. Sample gourmet food prepared by  top restaurants in the Lowcountry. Mingle with Southern authors\, purchase autographed books and watch a heated chefs' competition. \n\n	 \n\n	Coordinated by the Friends of Literacy Volunteers of the Lowcountry\, this highly anticipated event draws locals and visitors alike to an afternoon of food and fun for the entire family. Sonny Dixon of WTOC-TV Channel 11 will serve as master of ceremonies.  \n\n	 \n\n	Admission to Cooks & Books is $15 in advance and $20 at the door.  The ticket includes unlimited tastings\, access to the Lowcountry authors\, the chefs' competition\, "The Heat Is On" and the opportunity to vote for a favorite tasting in "The Peoples' Choice."    \n\n	 \n\n	Begin the Cooks & Books weekend with an elegant Preview Party Friday\, February 10 from 6:00 to 9:00 PM at TidePointe - A Vi Community on Hilton Head Island.  Enjoy a lavish dinner buffet\, an open bar and a unique silent auction.  Tickets are $75 per person. \n\n	 \n\n	For information please call (843) 815-6616 or check LVL's website www.lowcountryliteracy.org.
X-ALT-DESC;FMTTYPE=text/html:<p style="margin: 0in 0in 0pt\; background: white">\n	<span style="font-family: 'arial'\, 'sans-serif'"><font size="3"><font face="Arial"><font color="#000000">Mark your calendar today for the 6th Annual Literacy Volunteers of the Lowcountry&rsquo\;s<span style="mso-spacerun: yes">&nbsp\; </span>Cooks &amp\; Books celebration set for Sunday\, February 12\, 2012 from 11:30-3:00 PM at the <strong><span style="font-family: 'arial'\, 'sans-serif'\; font-weight: normal\; mso-bidi-font-weight: bold">Westin Hilton Head Island Resort &amp\; Spa!<span style="mso-spacerun: yes">&nbsp\; </span><o:p></o:p></span></strong></font></font></font></span></p>\n<p style="margin: 0in 0in 0pt\; background: white">\n	<strong><span style="font-family: 'arial'\, 'sans-serif'\; font-size: 11pt\; font-weight: normal\; mso-bidi-font-weight: bold"><o:p><font color="#000000">&nbsp\;</font></o:p></span></strong></p>\n<p style="margin: 0in 0in 0pt\; background: white">\n	<font size="3"><font color="#000000"><strong><span style="font-family: 'arial'\, 'sans-serif'\; font-weight: normal\; mso-bidi-font-weight: bold">The afternoon promises the perfect recipe for curing the mid-winter blahs. </span></strong><span style="font-family: 'arial'\, 'sans-serif'">Sample gourmet food prepared by&nbsp\; top restaurants in the Lowcountry. Mingle with Southern authors\, purchase autographed books and watch a heated chefs&rsquo\; competition. <o:p></o:p></span></font></font></p>\n<p class="MsoNormal" style="margin: 0in 0in 0pt\; mso-pagination: none">\n	<span lang="EN" style="font-family: 'arial'\, 'sans-serif'\; mso-font-kerning: 8.0pt\; mso-ansi-language: en"><o:p><font color="#000000" size="3">&nbsp\;</font></o:p></span></p>\n<p style="margin: 0in 0in 0pt\; background: white">\n	<span style="font-family: 'arial'\, 'sans-serif'"><font size="3"><font color="#000000">Coordinated by the Friends of Literacy Volunteers of the Lowcountry\, this highly anticipated event draws locals and visitors alike to an afternoon of food and fun for the entire family.&nbsp\;</font></font></span><span lang="EN" style="font-family: 'arial'\, 'sans-serif'\; mso-ansi-language: en"><font size="3"><font color="#000000">Sonny Dixon of WTOC-TV Channel 11 will serve as master of ceremonies.<span style="mso-spacerun: yes">&nbsp\; </span><o:p></o:p></font></font></span></p>\n<p class="MsoNormal" style="margin: 0in 0in 0pt\; mso-pagination: none">\n	<span lang="EN" style="font-family: 'arial'\, 'sans-serif'\; mso-ansi-language: en"><o:p><font color="#000000" size="3">&nbsp\;</font></o:p></span></p>\n<p class="MsoNormal" style="margin: 0in 0in 0pt\; mso-pagination: none">\n	<span lang="EN" style="font-family: 'arial'\, 'sans-serif'\; mso-ansi-language: en"><font size="3"><font color="#000000">Admission to Cooks &amp\; Books is $15 in advance and $20 at the door.<span style="mso-spacerun: yes">&nbsp\; </span>The ticket includes unlimited tastings\, access to the Lowcountry authors\, the chefs&rsquo\; competition\, &ldquo\;The Heat Is On&rdquo\; and the opportunity to vote for a favorite tasting in &ldquo\;The Peoples&rsquo\; Choice.&rdquo\;<span style="mso-spacerun: yes">&nbsp\;&nbsp\;&nbsp\; </span><o:p></o:p></font></font></span></p>\n<p class="MsoNormal" style="margin: 0in 0in 0pt\; mso-pagination: none">\n	<span lang="EN" style="font-family: 'arial'\, 'sans-serif'\; mso-ansi-language: en"><o:p><font color="#000000" size="3">&nbsp\;<br />\n	Begin the Cooks &amp\; Books weekend with an elegant Preview Party Friday\, February 10 from 6:00 to 9:00 PM at TidePointe - A Vi Community on Hilton Head Island.&nbsp\; Enjoy a lavish dinner buffet\, an open bar and a unique silent auction.&nbsp\; Tickets are $75 per person. </font></o:p></span><br />\n	&nbsp\;</p>\n<p class="MsoNormal" style="margin: 0in 0in 0pt\; mso-pagination: none">\n	<span lang="EN" style="font-family: 'arial'\, 'sans-serif'\; mso-ansi-language: en"><font size="3"><font color="#000000">For information please call (843) 815-6616 or check LVL&rsquo\;s website www.lowcountryliteracy.org.<o:p></o:p></font></font></span></p>\n
LOCATION:The Westin Hilton Head Island Resort & Spa
UID:e.1212.4339
SEQUENCE:3
DTSTAMP:20260423T040831Z
URL:http://business.beaufortchamber.org/events/details/cooks-books-02-12-2012-4339
END:VEVENT

END:VCALENDAR
