BEGIN:VCALENDAR
VERSION:2.0
PRODID:-//ChamberMaster//Event Calendar 2.0//EN
METHOD:PUBLISH
X-PUBLISHED-TTL:P3D
REFRESH-INTERVAL:P3D
CALSCALE:GREGORIAN
BEGIN:VEVENT
DTSTART:20140223T160000Z
DTEND:20140223T190000Z
X-MICROSOFT-CDO-ALLDAYEVENT:FALSE
SUMMARY:Cooks & Books
DESCRIPTION:Literacy Volunteers Cooks & Books Set for February 23\, 2014. The palate-pleasing combination of signature food tastings from top local restaurants will be paired with well-known Lowcountry authors and topped with an exciting "The Heat Is On" chefs competition at Literacy Volunteers of the Lowcountry's 8th Annual COOKS & BOOKS celebration on Sunday\, February 23\, 2014 from 11:00 am to 2:00 pm at The Westin Hilton Head Island Resort & Spa. Hilton Head Chrysler-Jeep-Dodge-Ram is the Presenting Sponsor and The Westin Hilton Head Island Resort & Spa is the event's Pinnacle Partner. Cooks & Books promises to be an afternoon of culinary delights and entertainment. Sonny Dixon of WTOC-TV Channel 11 in Savannah will serve as master of ceremonies. Admission to Cooks & Books is $20 in advance and $25 at the door. The ticket includes unlimited tastings\, access to the Lowcountry authors\, the chefs competition\, "The Heat Is On" and the opportunity to vote for a favorite tasting in "The Peoples" Choice. Kick off the weekend at the Cooks & Books Preview Party\, Friday\, February 21\, from 6:00 to 9:00 pm. This gala is held at TidePointe\, a Vi Community on Hilton Head Island which is also the event's Pinnacle Partner. Savor a lavish buffet\, decadent desserts and an open bar along with a unique silent auction. Tickets are $95 per person in advance\, and space is limited .
X-ALT-DESC;FMTTYPE=text/html:Literacy Volunteers Cooks &amp\; Books Set for February 23\, 2014. The palate-pleasing combination of signature food tastings from top local restaurants will be paired with well-known Lowcountry authors and topped with an exciting &quot\;The Heat Is On&quot\; chefs competition at Literacy Volunteers of the Lowcountry&#39\;s 8th Annual COOKS &amp\; BOOKS celebration on Sunday\, February 23\, 2014 from 11:00 am to 2:00 pm at The Westin Hilton Head Island Resort &amp\; Spa. Hilton Head Chrysler-Jeep-Dodge-Ram is the Presenting Sponsor and The Westin Hilton Head Island Resort &amp\; Spa is the event&#39\;s Pinnacle Partner. Cooks &amp\; Books promises to be an afternoon of culinary delights and entertainment. Sonny Dixon of WTOC-TV Channel 11 in Savannah will serve as master of ceremonies. Admission to Cooks &amp\; Books is $20 in advance and $25 at the door. The ticket includes unlimited tastings\, access to the Lowcountry authors\, the chefs competition\, &quot\;The Heat Is On&quot\; and the opportunity to vote for a favorite tasting in &quot\;The Peoples&quot\; Choice. Kick off the weekend at the Cooks &amp\; Books Preview Party\, Friday\, February 21\, from 6:00 to 9:00 pm. This gala is held at TidePointe\, a Vi Community on Hilton Head Island which is also the event&#39\;s Pinnacle Partner. Savor a lavish buffet\, decadent desserts and an open bar along with a unique silent auction. Tickets are $95 per person in advance\, and space is limited . 
LOCATION:The Westin Hilton Head Island Resort & Spa
UID:e.1212.5124
SEQUENCE:3
DTSTAMP:20260421T113811Z
URL:http://business.beaufortchamber.org/events/details/cooks-books-02-23-2014-5124
END:VEVENT

END:VCALENDAR
