BEGIN:VCALENDAR
VERSION:2.0
PRODID:-//ChamberMaster//Event Calendar 2.0//EN
METHOD:PUBLISH
X-PUBLISHED-TTL:P3D
REFRESH-INTERVAL:P3D
CALSCALE:GREGORIAN
BEGIN:VEVENT
DTSTART;VALUE=DATE:20100221
DTEND;VALUE=DATE:20100222
TRANSP:TRANSPARENT
X-MICROSOFT-CDO-ALLDAYEVENT:TRUE
SUMMARY:Cooks & Books - Benefitting Literacy Volunteers of the Lowcountry
DESCRIPTION:The palate-pleasing combination of signature food tastings from top local restaurants will be paired with well-known Lowcountry authors and topped with an exciting “The Heat Is On” chefs’ competition  at Literacy Volunteers of the Lowcountry’s 4nd Annual Winter Fundraiser\, COOKS  \n\n              *Literacy Volunteers’ Hilton Head office\, 4 Oak Park Drive – off Mathews Drive\n\n              *Literacy Volunteers’ Bluffton Office\, 1-B Kitties Landing Way – off Rt. 46\n\n             *Burke’s Main Street Pharmacy\, Hilton Head \n\n              *Markel’s Cards & Gifts\, Kittie’s Crossing\n\n*Le Cookery\, Wexford Village Shoppes\, Hilton Head
X-ALT-DESC;FMTTYPE=text/html:The palate-pleasing combination of signature food tastings from top local restaurants will be paired with well-known Lowcountry authors and topped with an exciting “The Heat Is On” chefs’ competition  at Literacy Volunteers of the Lowcountry’s 4nd Annual Winter Fundraiser\, COOKS & BOOKS\, on Sunday\, February 21\, 2008 from 11:30 to 4:00  at The Mall at Shelter Cove .\n\nCoordinated by LVL’s Friends of Literacy fund-raising organization\, Cooks & Books promises to be an afternoon of culinary delights and entertainment.  Sonny Dixon of WTOC-TV Channel 11 in Savannah will serve as master of ceremonies.  Admission to Cooks & Books is $15 in advance and $20 at the door.  The ticket includes unlimited tastings\, access to the Lowcountry authors\, the chefs’ competition\, “The Heat is On” and the opportunity to vote for a favorite tasting in “The Peoples’ Choice.”    For information please call 815-6616 or check the website www.lowcountryliteracy.org.\n\n16 Lowcountry Restaurants Offering Tastings\n*Redfish                                     *Old Fort Pub                *Antonio’s                      *Sandstone Catering\n*CQ’s                                          *Ocean Grille                 *Wise Guys                   *Frankie Bones \n*Alligator Grille                           *Charley’s Crab             *French Bakery             *Cookies by Design \n*Aqua  Grille & Lounge              *Kenny B’s French Quarter Café                        *Tapas \n*Bistro 17\n\n7 Lowcountry Authors and Cookbook Authors\nKathryn Wall                              Patti Callahan Henry                               Sallie Ann Robinson                   \nKaren White                               C.J. Lyons                                               Mary Kay Andrews \nJackie K. Cooper                                                \n \n“The Heat is ON” – Chefs’ Competition \nThe first two rounds are elimination rounds and the third round will pit the winners of the elimination rounds against each other.  The first round begins at 12:00 and will run for 30 minutes.   The second round begins at 1:00 and will run until 1:30.  The final round starts at 2:00 and will finish at 2:30.  \nChefs will be judged on creativity\, taste\, presentation and number of dishes created within a half hour’s time.  \n \n10 Competing Chefs \nStephen Stewart of TidePointe              Ryan Alpaugh of Alligator Grille \nKeith Josefiak of Old Fort Pub               Rob Britton of Charley’s Crab \nYuri Gow of Antonio’s                            Eric Seaglund of Aqua Grille & Lounge \nLuke Lyons of   Frankie Bones             Russell Keane of Wise Guys \nAram Hartunian of Sandstone Catering Kenny Ballard of Kenny B’s French Quarter Cafe \n\n3      Chefs’ Competition Judges    - all Culinary Professionals\n·         Ron Andrews\n·         Wolfgang Biere\n·         Jean Vandeville\, Culinary instructor – Savannah Tech\n\n\nAdvance tickets can be purchased at\;\n\n              *Literacy Volunteers’ Hilton Head office\, 4 Oak Park Drive – off Mathews Drive\n\n              *Literacy Volunteers’ Bluffton Office\, 1-B Kitties Landing Way – off Rt. 46\n\n             *Burke’s Main Street Pharmacy\, Hilton Head \n\n              *Markel’s Cards & Gifts\, Kittie’s Crossing\n\n*Le Cookery\, Wexford Village Shoppes\, Hilton Head
LOCATION:
UID:e.1212.3705
SEQUENCE:3
DTSTAMP:20260424T184533Z
URL:http://business.beaufortchamber.org/events/details/cooks-books-benefitting-literacy-volunteers-of-the-lowcountry-02-21-2010-3705
END:VEVENT

END:VCALENDAR
