BEGIN:VCALENDAR
VERSION:2.0
PRODID:-//ChamberMaster//Event Calendar 2.0//EN
METHOD:PUBLISH
X-PUBLISHED-TTL:P3D
REFRESH-INTERVAL:P3D
CALSCALE:GREGORIAN
BEGIN:VEVENT
DTSTART:20121003T200000Z
DTEND:20121003T210000Z
X-MICROSOFT-CDO-ALLDAYEVENT:FALSE
SUMMARY:Crave Cupcake Boutique - Grand Opening & Ribbon Cutting
DESCRIPTION:"Crave CupCake Boutique" striving to be a cornerstone in the community. With over 50 flavors of choice\, Crave CupCake Boutique custom cupcakes are baked fresh daily with love and compassion.
X-ALT-DESC;FMTTYPE=text/html:&quot\;Crave CupCake Boutique&quot\; striving to be a cornerstone in the community. With over 50 flavors of choice\, Crave CupCake Boutique custom cupcakes are baked fresh daily with love and compassion.
LOCATION:1103 BOUNDARY ST BEAUFORT\, SC 29902
UID:e.1212.4636
SEQUENCE:3
DTSTAMP:20260422T152827Z
URL:http://business.beaufortchamber.org/events/details/crave-cupcake-boutique-grand-opening-ribbon-cutting-10-03-2012-4636
END:VEVENT

END:VCALENDAR
