BEGIN:VCALENDAR
VERSION:2.0
PRODID:-//ChamberMaster//Event Calendar 2.0//EN
METHOD:PUBLISH
X-PUBLISHED-TTL:P3D
REFRESH-INTERVAL:P3D
CALSCALE:GREGORIAN
BEGIN:VEVENT
DTSTART:20140327T230000Z
DTEND:20140328T010000Z
X-MICROSOFT-CDO-ALLDAYEVENT:FALSE
SUMMARY:Creatures of the Night
DESCRIPTION:Fripp Audubon & Naturally Fripp Community Wildlife Habitat present: Creatures of the Night. Celebrated Lowcountry expert & licensed wildlife rehabilitator\, Nancy Owen\, will fascinate you with tales of native bats and owls on the Fripp Audubon Trail. Please bring plate of nibbles to share. The event  presentation is free & you'll receive a free pass at Fripp gate.
X-ALT-DESC;FMTTYPE=text/html:Fripp Audubon &amp\; Naturally Fripp Community Wildlife Habitat present: Creatures of the Night. Celebrated Lowcountry expert &amp\; licensed wildlife rehabilitator\, Nancy Owen\, will fascinate you with tales of native bats and owls on the Fripp Audubon Trail. Please bring plate of nibbles to share. The event&nbsp\; presentation is free&nbsp\;&amp\; you&#39\;ll receive a&nbsp\;free pass at Fripp gate.<br />\n<br />\n&nbsp\;
LOCATION:Fripp Island Community Center
UID:e.1212.5279
SEQUENCE:3
DTSTAMP:20260423T091458Z
URL:http://business.beaufortchamber.org/events/details/creatures-of-the-night-03-27-2014-5279
END:VEVENT

END:VCALENDAR
