BEGIN:VCALENDAR
VERSION:2.0
PRODID:-//ChamberMaster//Event Calendar 2.0//EN
METHOD:PUBLISH
X-PUBLISHED-TTL:P3D
REFRESH-INTERVAL:P3D
CALSCALE:GREGORIAN
BEGIN:VEVENT
DTSTART:20121103T160000Z
DTEND:20121103T210000Z
X-MICROSOFT-CDO-ALLDAYEVENT:FALSE
SUMMARY:Daufuskie Island's 8th Annual Autumnfest
DESCRIPTION:"Daufuskie 8th Annual Autumn Fest\n\nNov. 3\, 2012\, Saturday\n\nNoon-5 pm\n\nFREE General Admission \n\nFreeport Marina\n\nDaufuskie Island\, SC 29915 \n\n \n\nA Family-Friendly Event.........\n\n \n\nCome along\, everyone\, the Daufuskie Autumn Fest will be hosted at the Freeport Marina on Daufuskie Island and is being sponsored by The Binyah Foundation\, Steward for Daufuskie and the Lowcountry. An array of entertainment includes The Chilly Willy Band and Bill Dupont\, the Blues Man. Family fun includes story telling\, island tours\, clown-balloon art\, hair braiding\, and oyster shell arty crafts. The oyster roast {$5 minimum donation & rsvp appreciated} along with food vendors and a marshmallow roast centered around the festival bonfire will be a foodie experience.\n\n \n\nVendors are welcome. Donations are appreciated and proceeds will go to benefit the Sea Island Ferry Transportation -SIFT- Task Force. For SIFT Task Force information call\, 843.43.FERRY or 843.290.9962. For ferry\, golf cart and island tours reservations call Calibogue Cruises\, 843-342-8687. For event information and to reserve for the oyster roast call The Binyah Foundation\; 843.647.1008."
X-ALT-DESC;FMTTYPE=text/html:<span style="font-size: 10pt"><span style="color: black"><span style="font-family: verdana\, sans-serif">&quot\;Daufuskie 8th Annual Autumn Fest</span></span></span><br />\n<span style="font-size: 10pt"><span style="color: black"><span style="font-family: verdana\, sans-serif">Nov. 3\, 2012\, Saturday</span></span></span><br />\n<span style="font-size: 10pt"><span style="color: black"><span style="font-family: verdana\, sans-serif">Noon-5 pm</span></span></span><br />\n<span style="font-family: times new roman"><span style="font-size: 10pt"><span style="color: black">FREE&nbsp\;General Admission </span></span></span><br />\n<span style="font-size: 10pt"><span style="color: black"><span style="font-family: verdana\, sans-serif">Freeport Marina</span></span></span><br />\n<span style="font-family: times new roman"><span style="font-size: 10pt"><span style="color: black">Daufuskie Island\, SC 29915&nbsp\;</span></span></span><br />\n&nbsp\;<br />\n<span style="font-size: 10pt"><span style="color: black"><span style="font-family: verdana\, sans-serif">A Family-Friendly Event.........</span></span></span><br />\n&nbsp\;<br />\n<span style="font-size: 10pt"><span style="color: black"><span style="font-family: verdana\, sans-serif">Come&nbsp\;along\, everyone\,&nbsp\;the&nbsp\;Daufuskie Autumn Fest&nbsp\;will&nbsp\;be hosted at the&nbsp\;Freeport Marina on&nbsp\;Daufuskie Island and is being&nbsp\;sponsored by&nbsp\;The Binyah Foundation\, Steward for Daufuskie and&nbsp\;the&nbsp\;Lowcountry.&nbsp\;An&nbsp\;array of&nbsp\;entertainment includes The&nbsp\;Chilly Willy Band and&nbsp\;Bill&nbsp\;Dupont\, the&nbsp\;Blues&nbsp\;Man.&nbsp\;Family fun&nbsp\;includes story telling\, island tours\, clown-balloon art\, hair braiding\, and oyster shell arty crafts.&nbsp\;The&nbsp\;oyster roast {$5 minimum donation &amp\; rsvp appreciated}&nbsp\;along with&nbsp\;food&nbsp\;vendors and&nbsp\;a&nbsp\;marshmallow roast centered around the&nbsp\;festival&nbsp\;bonfire will&nbsp\;be&nbsp\;a&nbsp\;foodie&nbsp\;experience.</span></span></span><br />\n&nbsp\;<br />\n<span style="font-size: 10pt"><span style="color: black"><span style="font-family: verdana\, sans-serif">Vendors are welcome.&nbsp\;Donations&nbsp\;are&nbsp\;appreciated and&nbsp\;proceeds&nbsp\;will go&nbsp\;to benefit the Sea Island Ferry&nbsp\;Transportation -SIFT-&nbsp\;Task&nbsp\;Force.&nbsp\;For SIFT Task Force information call\, 843.43.FERRY or 843.290.9962. For&nbsp\;ferry\, golf cart and island tours reservations&nbsp\;call Calibogue Cruises\,&nbsp\;843-342-8687. For event information and to reserve for the oyster roast&nbsp\;call The Binyah Foundation\;&nbsp\;843.647.1008.&quot\;</span></span></span>
LOCATION:
UID:e.1212.4642
SEQUENCE:3
DTSTAMP:20260422T135028Z
URL:http://business.beaufortchamber.org/events/details/daufuskie-island-s-8th-annual-autumnfest-11-03-2012-4642
END:VEVENT

END:VCALENDAR
