BEGIN:VCALENDAR
VERSION:2.0
PRODID:-//ChamberMaster//Event Calendar 2.0//EN
METHOD:PUBLISH
X-PUBLISHED-TTL:P3D
REFRESH-INTERVAL:P3D
CALSCALE:GREGORIAN
BEGIN:VEVENT
DTSTART:20130524T180000Z
DTEND:20130524T180000Z
X-MICROSOFT-CDO-ALLDAYEVENT:FALSE
SUMMARY:Deadline for submitting application for Leadership Beaufort Class of 2014
DESCRIPTION:Applications must be submitted no later than 2 pm on Friday\, May 24\, 2013\, delivered by hand\, mail or faxed.  Do not submit tuition payment with application.
X-ALT-DESC;FMTTYPE=text/html:Applications must be submitted no later than 2 pm on Friday\, May 24\, 2013\, delivered by hand\, mail or faxed.&nbsp\; Do not submit tuition payment with application.
LOCATION:
UID:e.1212.4590
SEQUENCE:3
DTSTAMP:20260422T031125Z
URL:http://business.beaufortchamber.org/events/details/deadline-for-submitting-application-for-leadership-beaufort-class-of-2014-05-24-2013-4590
END:VEVENT

END:VCALENDAR
