BEGIN:VCALENDAR
VERSION:2.0
PRODID:-//ChamberMaster//Event Calendar 2.0//EN
METHOD:PUBLISH
X-PUBLISHED-TTL:P3D
REFRESH-INTERVAL:P3D
CALSCALE:GREGORIAN
BEGIN:VEVENT
DTSTART;VALUE=DATE:20081219
DTEND;VALUE=DATE:20081220
TRANSP:TRANSPARENT
X-MICROSOFT-CDO-ALLDAYEVENT:TRUE
SUMMARY:December Beaufort Regional Chamber - Coffee with Colleagues
DESCRIPTION:Stop in and check out  "Beaufort's Newest Networking Group".  Here is an opportunity to meet and greet  with other Chamber members and staff.   Event is free and open to the public.  Products  will be available for purchase.
X-ALT-DESC;FMTTYPE=text/html:Stop in and check out  "Beaufort's Newest Networking Group".  Here is an opportunity to meet and greet  with other Chamber members and staff.   Event is free and open to the public.  Products  will be available for purchase.
LOCATION:
UID:e.1212.2851
SEQUENCE:3
DTSTAMP:20260425T141649Z
URL:http://business.beaufortchamber.org/events/details/december-beaufort-regional-chamber-coffee-with-colleagues-12-19-2008-2851
END:VEVENT

END:VCALENDAR
