BEGIN:VCALENDAR
VERSION:2.0
PRODID:-//ChamberMaster//Event Calendar 2.0//EN
METHOD:PUBLISH
X-PUBLISHED-TTL:P3D
REFRESH-INTERVAL:P3D
CALSCALE:GREGORIAN
BEGIN:VEVENT
DTSTART:20111208T223000Z
DTEND:20111209T000000Z
X-MICROSOFT-CDO-ALLDAYEVENT:FALSE
SUMMARY:December Business After Hours
DESCRIPTION:Relationship building is how business is done in Beaufort. Expose your business to a variety of industries and professionals in a high-energy social atmosphere. Business After Hours is a staple of the Chamber members' calendars. This after hours event for professionals is held monthly from 5:30 - 7 p.m. at various locations throughout the  area and enables you to connect with other members in a casual environment. Join us this month at Ashton Pointe Apartment Homes\; Sponsored by Coastal Connections\, Port Royal Pasta and Ashton Pointe Apartment Homes.
X-ALT-DESC;FMTTYPE=text/html:<p>\n	<span class="GeneralBody" id="EventDetailDescription1_lblEventDescription"><font face="Arial" style="font-size: 12px">Relationship building is how business is done in Beaufort. Expose your business to a variety of industries and professionals in a high-energy social atmosphere. Business After Hours is a staple of the Chamber members&#39\; calendars. This after hours event for professionals is held monthly from 5:30 - 7 p.m. at various locations throughout the&nbsp\; area and enables you to connect with other members in a casual environment. Join us this month at Ashton Pointe Apartment Homes\; Sponsored by Coastal Connections\, Port Royal Pasta and Ashton Pointe Apartment Homes.</font></span></p>\n<span _fck_bookmark="1" style="display: none">&nbsp\;</span>
LOCATION:Ashton Pointe Apartment Homes 100 Ashton Pointe Boulevard Beaufort\, SC 29906
UID:e.1212.4342
SEQUENCE:3
DTSTAMP:20260423T060228Z
URL:http://business.beaufortchamber.org/events/details/december-business-after-hours-12-08-2011-4342
END:VEVENT

END:VCALENDAR
