BEGIN:VCALENDAR
VERSION:2.0
PRODID:-//ChamberMaster//Event Calendar 2.0//EN
METHOD:PUBLISH
X-PUBLISHED-TTL:P3D
REFRESH-INTERVAL:P3D
CALSCALE:GREGORIAN
BEGIN:VEVENT
DTSTART:20111024T140000Z
DTEND:20111031T220000Z
X-MICROSOFT-CDO-ALLDAYEVENT:FALSE
SUMMARY:Dempsey Farms - U Pick Pumpkin Patch
DESCRIPTION:Bring the family and friends out and pick your very own pumpkins\n\n\n\nHay rides\, vegetable stand\, 8 acre maze (close to 3 miles) and lots more\n\n\n\nCall for school field trip information available Mon -  Fri
X-ALT-DESC;FMTTYPE=text/html:Bring the family and friends out and pick your very own pumpkins<br />\n<br />\nHay rides\, vegetable stand\, 8 acre maze (close to 3 miles) and lots more<br />\n<br />\nCall for school field trip information available Mon -&nbsp\; Fri<br />\n
LOCATION:Dempsey Farms 1576 Sea Island Parkway St. Helena Island\, SC 29920
UID:e.1212.4328
SEQUENCE:3
DTSTAMP:20260423T092659Z
URL:http://business.beaufortchamber.org/events/details/dempsey-farms-u-pick-pumpkin-patch-10-24-2011-4328
END:VEVENT

END:VCALENDAR
