BEGIN:VCALENDAR
VERSION:2.0
PRODID:-//ChamberMaster//Event Calendar 2.0//EN
METHOD:PUBLISH
X-PUBLISHED-TTL:P3D
REFRESH-INTERVAL:P3D
CALSCALE:GREGORIAN
BEGIN:VEVENT
DTSTART:20121105T220000Z
DTEND:20121106T000000Z
X-MICROSOFT-CDO-ALLDAYEVENT:FALSE
SUMMARY:DeVino DeVine @ Breakwater
DESCRIPTION:DiVino DiVine @Breakwater benefitting DragonBoat Beaufort\n\nNovember 5th@ 5 pm to 7 pm This season's wine tasting event\, under the tent. Over 40 wines to taste plus the opportunity to stock your cellar for the holidays with cases of excellent wine at discount prices. Tickets $15 in advance at Breakwater\, The Cuthbert House Inn\, Main Street Beaufort ($20 at the door on the 5th) $15 of every case sold goes to support DragonBoat Beaufort's cancer survivor missions. Info\, or for dinner after the event\, call 379-0052 or www.breakwatersc.com203 Carteret Street.
X-ALT-DESC;FMTTYPE=text/html:<span style="font-size: medium"><strong><span style="color: windowtext">DiVino DiVine @Breakwater benefitting DragonBoat Beaufort</span></strong></span><br />\n<strong><span style="color: windowtext"><span style="font-size: medium">November 5</span></span><sup><span style="font-size: small">th</span></sup></strong><span style="color: windowtext"><span style="font-size: medium">@ 5 pm to 7 pm This season&rsquo\;s wine tasting event\, under the tent. Over 40 wines to taste plus the opportunity to stock your cellar for the holidays with cases of excellent wine at discount prices. Tickets $15 in advance at Breakwater\, The Cuthbert House Inn\, Main Street Beaufort ($20 at the door on the 5</span></span><sup><span style="font-size: small">th</span></sup><span style="font-size: medium">) $15 of every case sold goes to support DragonBoat Beaufort&rsquo\;s cancer survivor missions. Info\, or for dinner after the event\, call 379-0052 or </span><a href="http://www.breakwatersc.com/"><span style="color: windowtext"><span style="font-size: medium">www.breakwatersc.com</span></span></a><span style="font-size: medium">203 Carteret Street.</span><br />\n
LOCATION:Breakwater Restaurant\, 203 Carteret Street\, Beaufort SC
UID:e.1212.4640
SEQUENCE:3
DTSTAMP:20260422T133335Z
URL:http://business.beaufortchamber.org/events/details/devino-devine-breakwater-11-05-2012-4640
END:VEVENT

END:VCALENDAR
