BEGIN:VCALENDAR
VERSION:2.0
PRODID:-//ChamberMaster//Event Calendar 2.0//EN
METHOD:PUBLISH
X-PUBLISHED-TTL:P3D
REFRESH-INTERVAL:P3D
CALSCALE:GREGORIAN
BEGIN:VEVENT
DTSTART:20121013T165500Z
DTEND:20121013T210000Z
X-MICROSOFT-CDO-ALLDAYEVENT:FALSE
SUMMARY:Donizetti's L'Elisir d'Amore MET OPERA LIVE IN HD
DESCRIPTION:Anna Netrebko and Matthew Polenzani star in Bartlett Sher's new production of one of the greatest comic gems in opera\, as the fickle Adina and her besotted Nemorino. Mariusz Kwiecien is the blustery sergeant Belcore and Ambrogio Maestri is Dulcamara\, the loveable quack and dispenser of the elixir. Maurizio Benini conduct
X-ALT-DESC;FMTTYPE=text/html:Anna Netrebko and Matthew Polenzani star in Bartlett Sher&#39\;s new production of one of the greatest comic gems in opera\, as the fickle Adina and her besotted Nemorino. Mariusz Kwiecien is the blustery sergeant Belcore and Ambrogio Maestri is Dulcamara\, the loveable quack and dispenser of the elixir. Maurizio Benini conduct 
LOCATION:USCB Center for the Arts 801 Carteret Street Beaufort\, SC 29902
UID:e.1212.4625
SEQUENCE:3
DTSTAMP:20260422T152529Z
URL:http://business.beaufortchamber.org/events/details/donizetti-s-l-elisir-d-amore-met-opera-live-in-hd-10-13-2012-4625
END:VEVENT

END:VCALENDAR
