BEGIN:VCALENDAR
VERSION:2.0
PRODID:-//ChamberMaster//Event Calendar 2.0//EN
METHOD:PUBLISH
X-PUBLISHED-TTL:P3D
REFRESH-INTERVAL:P3D
CALSCALE:GREGORIAN
BEGIN:VEVENT
DTSTART:20130918T180000Z
DTEND:20130918T220000Z
X-MICROSOFT-CDO-ALLDAYEVENT:FALSE
SUMMARY:Downtown Beaufort Farmers Market
DESCRIPTION:Join us each week and visit Area Farmers & Growers\; Live Entertainment\n\nCooking Demonstrations by local Chefs\; Prepared Foods made with local ingredients\;
X-ALT-DESC;FMTTYPE=text/html:Join us each week and visit Area Farmers &amp\; Growers\; Live Entertainment<br />\nCooking Demonstrations by local Chefs\; Prepared Foods made with local ingredients\; 
LOCATION:West Street\, Downtown Beaufort - After BB&T Drive - Thru to Craven Street * BB&T Customers\, please be assured the bank drive thru will be open and accessible as normal.
UID:e.1212.4756
SEQUENCE:3
DTSTAMP:20260421T201026Z
URL:http://business.beaufortchamber.org/events/details/downtown-beaufort-farmers-market-09-18-2013-4756
END:VEVENT

END:VCALENDAR
