BEGIN:VCALENDAR
VERSION:2.0
PRODID:-//ChamberMaster//Event Calendar 2.0//EN
METHOD:PUBLISH
X-PUBLISHED-TTL:P3D
REFRESH-INTERVAL:P3D
CALSCALE:GREGORIAN
BEGIN:VEVENT
DTSTART:20130815T213000Z
DTEND:20130815T233000Z
X-MICROSOFT-CDO-ALLDAYEVENT:FALSE
SUMMARY:Downtown Plate Crawl
DESCRIPTION:Downtown Plate Crawl\n\nHome Cooks vs. Local Chefs\n\nThursday\, August 15th\, 5:30 - 7:30 pm\n\nDowntown Beaufort\n\n\n\nThe Downtown Plate Crawl is a fundraiser for Main Street Beaufort\, USA.  Have you been told you make the best macaroni and cheese?  Or the best ribs?  Pound cake anyone?  Put your dish to the test and submit a form to participate.\n\n\n\nParticipating local chefs will view the list of entries and challenge the dish they believe they can top
X-ALT-DESC;FMTTYPE=text/html:Downtown Plate Crawl<br />\nHome Cooks vs. Local Chefs<br />\nThursday\, August 15th\, 5:30 - 7:30 pm<br />\nDowntown Beaufort<br />\n<br />\nThe Downtown Plate Crawl is a fundraiser for Main Street Beaufort\, USA.&nbsp\; Have you been told you make the best macaroni and cheese?&nbsp\; Or the best ribs?&nbsp\; Pound cake anyone?&nbsp\; Put your dish to the test and submit a form to participate.<br />\n<br />\nParticipating local chefs will view the list of entries and challenge the dish they believe they can top&nbsp\; 
LOCATION:
UID:e.1212.5042
SEQUENCE:3
DTSTAMP:20260421T213917Z
URL:http://business.beaufortchamber.org/events/details/downtown-plate-crawl-08-15-2013-5042
END:VEVENT

END:VCALENDAR
