BEGIN:VCALENDAR
VERSION:2.0
PRODID:-//ChamberMaster//Event Calendar 2.0//EN
METHOD:PUBLISH
X-PUBLISHED-TTL:P3D
REFRESH-INTERVAL:P3D
CALSCALE:GREGORIAN
BEGIN:VEVENT
DTSTART;VALUE=DATE:20090119
DTEND;VALUE=DATE:20090120
TRANSP:TRANSPARENT
X-MICROSOFT-CDO-ALLDAYEVENT:TRUE
SUMMARY:Dr. Martin Luther King Jr. Celebration - Annual Parade
DESCRIPTION:"Working Together to Achieve Success"  sponsored by Beaufort County Ministerial Alliance.  Parade route runs up Bladen to Boundary to Carteret to Bay to Bladen. For further details contact Reverend Sam T. Spain or call the following numbers:  524-0931 or 846-8050.
X-ALT-DESC;FMTTYPE=text/html:"Working Together to Achieve Success"  sponsored by Beaufort County Ministerial Alliance.  Parade route runs up Bladen to Boundary to Carteret to Bay to Bladen. For further details contact Reverend Sam T. Spain or call the following numbers:  524-0931 or 846-8050.
LOCATION:
UID:e.1212.2897
SEQUENCE:3
DTSTAMP:20260425T124314Z
URL:http://business.beaufortchamber.org/events/details/dr-martin-luther-king-jr-celebration-annual-parade-01-19-2009-2897
END:VEVENT

END:VCALENDAR
