BEGIN:VCALENDAR
VERSION:2.0
PRODID:-//ChamberMaster//Event Calendar 2.0//EN
METHOD:PUBLISH
X-PUBLISHED-TTL:P3D
REFRESH-INTERVAL:P3D
CALSCALE:GREGORIAN
BEGIN:VEVENT
DTSTART;VALUE=DATE:20090119
DTEND;VALUE=DATE:20090120
TRANSP:TRANSPARENT
X-MICROSOFT-CDO-ALLDAYEVENT:TRUE
SUMMARY:Dr. Martin Luther King Jr. Celebration - Closing Program and Keynote Address
DESCRIPTION:"Working Together to Achieve Success"  sponsored by Beaufort County Ministerial Alliance.   Speaker\, Dr. Prince Jackson\, Savannah State University will present the closing program.   For further details contact Reverend Sam T. Spain or call the following numbers:  524-0931 or 846-8050.
X-ALT-DESC;FMTTYPE=text/html:"Working Together to Achieve Success"  sponsored by Beaufort County Ministerial Alliance.   Speaker\, Dr. Prince Jackson\, Savannah State University will present the closing program.   For further details contact Reverend Sam T. Spain or call the following numbers:  524-0931 or 846-8050.
LOCATION:
UID:e.1212.2898
SEQUENCE:3
DTSTAMP:20260425T124209Z
URL:http://business.beaufortchamber.org/events/details/dr-martin-luther-king-jr-celebration-closing-program-and-keynote-address-01-19-2009-2898
END:VEVENT

END:VCALENDAR
