BEGIN:VCALENDAR
VERSION:2.0
PRODID:-//ChamberMaster//Event Calendar 2.0//EN
METHOD:PUBLISH
X-PUBLISHED-TTL:P3D
REFRESH-INTERVAL:P3D
CALSCALE:GREGORIAN
BEGIN:VEVENT
DTSTART:20121024T223000Z
DTEND:20121025T003000Z
X-MICROSOFT-CDO-ALLDAYEVENT:FALSE
SUMMARY:Dragonheart Art Auction & Party Extravaganza
DESCRIPTION:Wednesday\, Oct. 24\, 2012\n\nDragonheart Art Auction & Party Extravaganza: ARTworks\, 6:30-8:30pm music\, appetizers\, cash bar and the DragonBoat Beaufort Boutique. Proceeds to benefit DragonBoat Beaufort's cancer survivor missions. 50% of all art sold goes to DragonBoat Beaufort's cancer survivor missions/50% to the artist.  For more info DragonBoatBeaufort@gmail.com 843-522-0200 or DragonBoatBeaufort.org
X-ALT-DESC;FMTTYPE=text/html:<span style="font-family: arial"><span style="font-size: 14px"><span style="font-size: 16px"><span style="color: black">Wednesday\, Oct. 24\, 2012<br />\n<strong>Dragonheart Art Auction &amp\; Party Extravaganza:</strong> ARTworks\, 6:30-8:30pm music\, appetizers\, cash bar and the DragonBoat Beaufort Boutique. Proceeds to benefit DragonBoat Beaufort&rsquo\;s cancer survivor missions. </span>50% of all art sold goes to DragonBoat Beaufort&rsquo\;s cancer survivor missions/50% to the artist</span><span style="color: black"><span style="font-size: 16px"><span style="color: #1f497d">.&nbsp\; </span>For more info <a href="mailto:DragonBoatBeaufort@gmail.com"><span style="color: black">DragonBoatBeaufort@gmail.com</span></a> 843-522-0200 or </span><span style="font-size: 16px">DragonBoatBeaufort.org</span></span></span></span>
LOCATION:
UID:e.1212.4619
SEQUENCE:3
DTSTAMP:20260422T151026Z
URL:http://business.beaufortchamber.org/events/details/dragonheart-art-auction-party-extravaganza-10-24-2012-4619
END:VEVENT

END:VCALENDAR
