BEGIN:VCALENDAR
VERSION:2.0
PRODID:-//ChamberMaster//Event Calendar 2.0//EN
METHOD:PUBLISH
X-PUBLISHED-TTL:P3D
REFRESH-INTERVAL:P3D
CALSCALE:GREGORIAN
BEGIN:VEVENT
DTSTART;VALUE=DATE:20090328
DTEND;VALUE=DATE:20090329
TRANSP:TRANSPARENT
X-MICROSOFT-CDO-ALLDAYEVENT:TRUE
SUMMARY:Duke Symphony Orchestra
DESCRIPTION:General admission tickets are $35.  Patron tickets are available for $75\, and include premium seating and the conductor's reception following the performance.  This special performance will benefit Beaufort Memorial Hospital's Keyserling Cancer Center.
X-ALT-DESC;FMTTYPE=text/html:General admission tickets are $35.  Patron tickets are available for $75\, and include premium seating and the conductor's reception following the performance.  This special performance will benefit Beaufort Memorial Hospital's Keyserling Cancer Center.
LOCATION:
UID:e.1212.3057
SEQUENCE:3
DTSTAMP:20260425T111449Z
URL:http://business.beaufortchamber.org/events/details/duke-symphony-orchestra-03-28-2009-3057
END:VEVENT

END:VCALENDAR
