BEGIN:VCALENDAR
VERSION:2.0
PRODID:-//ChamberMaster//Event Calendar 2.0//EN
METHOD:PUBLISH
X-PUBLISHED-TTL:P3D
REFRESH-INTERVAL:P3D
CALSCALE:GREGORIAN
BEGIN:VEVENT
DTSTART;VALUE=DATE:20090114
DTEND;VALUE=DATE:20090115
TRANSP:TRANSPARENT
X-MICROSOFT-CDO-ALLDAYEVENT:TRUE
SUMMARY:Eat Chick-fil-A for United Way !
DESCRIPTION:Have lunch at your local restaurant and 10% of sales will benefit the United Way.
X-ALT-DESC;FMTTYPE=text/html:Have lunch at your local restaurant and 10% of sales will benefit the United Way.
LOCATION:
UID:e.1212.2881
SEQUENCE:3
DTSTAMP:20260425T141055Z
URL:http://business.beaufortchamber.org/events/details/eat-chick-fil-a-for-united-way-01-14-2009-2881
END:VEVENT

END:VCALENDAR
