BEGIN:VCALENDAR
VERSION:2.0
PRODID:-//ChamberMaster//Event Calendar 2.0//EN
METHOD:PUBLISH
X-PUBLISHED-TTL:P3D
REFRESH-INTERVAL:P3D
CALSCALE:GREGORIAN
BEGIN:VEVENT
DTSTART:20121023T193000Z
DTEND:20121023T210000Z
X-MICROSOFT-CDO-ALLDAYEVENT:FALSE
SUMMARY:Economic Development Conversation
DESCRIPTION:Come with ideas\, suggestions and questions about economic development in our region.  This will be an open brainstorming session.  Please join us!
X-ALT-DESC;FMTTYPE=text/html:Come with ideas\, suggestions and questions about economic development in our region.&nbsp\; This will be an open brainstorming session.&nbsp\; Please join us!
LOCATION:Chamber Offices\, 701 Craven Street\, Beaufort
UID:e.1212.4607
SEQUENCE:3
DTSTAMP:20260422T150532Z
URL:http://business.beaufortchamber.org/events/details/economic-development-conversation-10-23-2012-4607
END:VEVENT

END:VCALENDAR
