BEGIN:VCALENDAR
VERSION:2.0
PRODID:-//ChamberMaster//Event Calendar 2.0//EN
METHOD:PUBLISH
X-PUBLISHED-TTL:P3D
REFRESH-INTERVAL:P3D
CALSCALE:GREGORIAN
BEGIN:VEVENT
DTSTART:20140313T121500Z
DTEND:20140313T131500Z
X-MICROSOFT-CDO-ALLDAYEVENT:FALSE
SUMMARY:Education/Workforce Development Committee
DESCRIPTION:
X-ALT-DESC;FMTTYPE=text/html:
LOCATION:Chamber offices 701 Craven Street\, Beaufort
UID:e.1212.5206
SEQUENCE:3
DTSTAMP:20260423T091105Z
URL:http://business.beaufortchamber.org/events/details/education-workforce-development-committee-03-13-2014-5206
END:VEVENT

END:VCALENDAR
