BEGIN:VCALENDAR
VERSION:2.0
PRODID:-//ChamberMaster//Event Calendar 2.0//EN
METHOD:PUBLISH
X-PUBLISHED-TTL:P3D
REFRESH-INTERVAL:P3D
CALSCALE:GREGORIAN
BEGIN:VEVENT
DTSTART:20121004T233000Z
DTEND:20121005T013000Z
X-MICROSOFT-CDO-ALLDAYEVENT:FALSE
SUMMARY:Edwin McCain Acoustic Trio
DESCRIPTION:Edwin McCain Acoustic Trio will open the University of SC Beaufort's Center for the Arts 2012- 2013 Season on Thursday\, October 4 at 7:30 PM. Blending equal parts folk\, soul and rock platinum selling artist Edwin McCain will be releasing a new studio album on August 30 entitled "Mercy Bound". Best known for his top ten hits "I'll Be" and "I Could Not Ask For More".  Edwin McCain Acoustic Trio is sponsored by Lowcountry Real Estate. For more information visit www.uscbcenterforthearts.com.
X-ALT-DESC;FMTTYPE=text/html:Edwin McCain Acoustic Trio will open the University of SC Beaufort&rsquo\;s Center for the Arts 2012- 2013 Season on Thursday\, October 4 at 7:30 PM. Blending equal parts folk\, soul and rock platinum selling artist Edwin McCain will be releasing a new studio album on August 30 entitled &ldquo\;Mercy Bound&rdquo\;. Best known for his top ten hits &ldquo\;I&rsquo\;ll Be&rdquo\; and &ldquo\;I Could Not Ask For More&rdquo\;.&nbsp\; Edwin McCain Acoustic Trio is sponsored by Lowcountry Real Estate. For more information visit www.uscbcenterforthearts.com.
LOCATION:USCB Center for the Arts 801 Carteret Street Beaufort SC 29902
UID:e.1212.4598
SEQUENCE:3
DTSTAMP:20260422T150715Z
URL:http://business.beaufortchamber.org/events/details/edwin-mccain-acoustic-trio-10-04-2012-4598
END:VEVENT

END:VCALENDAR
