BEGIN:VCALENDAR
VERSION:2.0
PRODID:-//ChamberMaster//Event Calendar 2.0//EN
METHOD:PUBLISH
X-PUBLISHED-TTL:P3D
REFRESH-INTERVAL:P3D
CALSCALE:GREGORIAN
BEGIN:VEVENT
DTSTART:20120429T163000Z
DTEND:20120429T210000Z
X-MICROSOFT-CDO-ALLDAYEVENT:FALSE
SUMMARY:Eighth Annual Hilton Head Savannah Equestrian Exposition
DESCRIPTION:Eighth Annual Hilton Head Savannah Equestrian Exposition. Held Sunday\, April 29\, 2012 at Rose Hill Planation in Bluffton\, SC . Featuring a variety of equestrian disciplines and a polo match. All proceeds benefit local charities. Tailgating is welcome. Children under twelve and military families are free.\n\nTickets are $15 per person and are available in advance by calling 815-5400. Tickets are also available the day of the event at the gate. For more information www.equiexpo.org
X-ALT-DESC;FMTTYPE=text/html:Eighth Annual&nbsp\;Hilton Head Savannah Equestrian Exposition. Held Sunday\, April 29\, 2012 at Rose Hill Planation in Bluffton\, SC . Featuring a variety of equestrian disciplines and a polo match.&nbsp\;All proceeds benefit local charities. Tailgating is welcome. Children under twelve and military families are free.<br />\nTickets are $15 per person and are available in advance by calling 815-5400. Tickets are also available the day of the event at the gate.&nbsp\;For more information <a href="http://www.equiexpo.org">www.equiexpo.org</a> 
LOCATION:Rose Hill Plantation\, Bluffton\, SC
UID:e.1212.4521
SEQUENCE:3
DTSTAMP:20260422T234821Z
URL:http://business.beaufortchamber.org/events/details/eighth-annual-hilton-head-savannah-equestrian-exposition-04-29-2012-4521
END:VEVENT

END:VCALENDAR
