BEGIN:VCALENDAR
VERSION:2.0
PRODID:-//ChamberMaster//Event Calendar 2.0//EN
METHOD:PUBLISH
X-PUBLISHED-TTL:P3D
REFRESH-INTERVAL:P3D
CALSCALE:GREGORIAN
BEGIN:VEVENT
DTSTART:20130411T220000Z
DTEND:20130412T000000Z
X-MICROSOFT-CDO-ALLDAYEVENT:FALSE
SUMMARY:Encore Screening - Awaken the Dragon
DESCRIPTION:Dragonboat Beaufort & the USCB Center for the Arts proudly present the 2nd Encore Screening of the award-winning documentary journey "Awaken the Dragon" (A story beyond survival) to benefit DragonBoat Beaufort's cancer survivor programs.\n\n\n\nThursday\, April 11\, 6:00 pm\n\nUSCB Center for the Arts\n\n801 Carteret Street\n\n843.521.4145\n\nTickets $10\n\n\n\nMovie Meal Deals\n\n15% goes to DragonBoat Beaufort\n\nBefore & After the Show:\n\nSpecial Bar Snack Menu & Cocktails at Breakwater\, 203 Carteret St\n\n\n\nAfter the Show:\n\n3-course prix fixe Dinner at Lowcountry Produce Market & Cafe\, 302 Carteret\n\n843.322.1900 to reserve\, 50 seats available
X-ALT-DESC;FMTTYPE=text/html:Dragonboat Beaufort &amp\; the USCB Center for the Arts proudly present the 2nd Encore Screening of the award-winning documentary journey &quot\;Awaken the Dragon&quot\; (A story beyond survival)&nbsp\;to benefit DragonBoat Beaufort&#39\;s cancer survivor programs.<br />\n<br />\nThursday\, April 11\, 6:00 pm<br />\nUSCB Center for the Arts<br />\n801 Carteret Street<br />\n843.521.4145<br />\nTickets $10<br />\n<br />\nMovie Meal Deals<br />\n15% goes to DragonBoat Beaufort<br />\nBefore &amp\; After the Show:<br />\nSpecial Bar Snack Menu &amp\; Cocktails at Breakwater\, 203 Carteret St<br />\n<br />\nAfter the Show:<br />\n3-course prix fixe Dinner at Lowcountry Produce Market &amp\; Cafe\, 302 Carteret<br />\n843.322.1900 to reserve\, 50 seats available
LOCATION:USCB Center for the Arts 801 Carteret Street Beaufort\, SC
UID:e.1212.4951
SEQUENCE:3
DTSTAMP:20260422T050837Z
URL:http://business.beaufortchamber.org/events/details/encore-screening-awaken-the-dragon-04-11-2013-4951
END:VEVENT

END:VCALENDAR
