BEGIN:VCALENDAR
VERSION:2.0
PRODID:-//ChamberMaster//Event Calendar 2.0//EN
METHOD:PUBLISH
X-PUBLISHED-TTL:P3D
REFRESH-INTERVAL:P3D
CALSCALE:GREGORIAN
BEGIN:VEVENT
DTSTART:20130627T220000Z
DTEND:20130627T231500Z
X-MICROSOFT-CDO-ALLDAYEVENT:FALSE
SUMMARY:Event at Harvard Risk Management Corporation
DESCRIPTION:ATTENTION BUSINESS OWNERS\, DECISION MAKERS\, HUMAN RESOURCES DIRECTORS:\n\n\n\n\n\n\n\n\n\n\n\n\n\n\n\n\n\n\n\n\n\n\n\n\n\n\n\n\n\n1) Would you like to reduce absenteeism?\n\n2) Would you like to reduce "presenteeism?" (when an employee is in but their mind isn't)\n\n3) Would you like to increase productivity?\n\n4) Would you like to decrease employee stress?\n\n5) Would you like to keep a progressive company image?\n\n6) Would you like to accomplish these at no cost to you?\n\n	 You are invited to attend and see how these things can be accomplished!!
X-ALT-DESC;FMTTYPE=text/html:<br />\n<br />\n<br />\n<br />\n<br />\n<br />\n<span style="unicode-bidi: embed\; direction: ltr\; language: en-US\;"><span style="font-size: 18pt\;"><span style="font-family: times new roman\;"><span style="color: black\;"><span style="font-size: 14px\;"><span style="font-size: 16px\;"><span style="background-color: lime\;"><span style="font-size: 18px\;">ATTENTION BUSINESS OWNERS\, DECISION MAKERS\, HUMAN RESOURCES DIRECTORS:</span></span></span><br />\n<br />\n<br />\n<br />\n<br />\n<br />\n<br />\n<br />\n<br />\n<br />\n<br />\n<br />\n<br />\n<br />\n<br />\n1)</span></span></span></span></span><span style="font-size: 14px\;">&nbsp\;<span style="font-style: italic\; font-weight: bold\; language: en-US\;">Would you like to </span><span style="font-style: italic\; font-weight: bold\; language: en-US\;"><span style="color: red\;">reduce absenteeism?</span></span><br />\n<span style="unicode-bidi: embed\; direction: ltr\; language: en-US\;"><span style="font-family: times new roman\;"><span style="color: black\;">2)</span></span></span>&nbsp\;<span style="font-style: italic\; font-weight: bold\; language: en-US\;">Would you like to </span><span style="font-style: italic\; font-weight: bold\; language: en-US\;"><span style="color: red\;">reduce &ldquo\;presenteeism?&rdquo\; </span></span><span style="font-size: 11px\;"><span style="font-style: italic\; font-weight: bold\; language: en-US\;">(when an employee is in but their mind isn&rsquo\;t)</span></span><br />\n<span style="unicode-bidi: embed\; direction: ltr\; language: en-US\;"><span style="font-family: times new roman\;"><span style="color: black\;">3)</span></span></span>&nbsp\;<span style="font-style: italic\; font-weight: bold\; language: en-US\;">Would you like to </span><span style="font-style: italic\; font-weight: bold\; language: en-US\;"><span style="color: red\;">increase productivity?</span></span><br />\n<span style="unicode-bidi: embed\; direction: ltr\; language: en-US\;"><span style="font-family: times new roman\;"><span style="color: black\;">4)</span></span></span>&nbsp\;<span style="font-style: italic\; font-weight: bold\; language: en-US\;">Would you like to </span><span style="font-style: italic\; font-weight: bold\; language: en-US\;"><span style="color: red\;">decrease employee stress?</span></span><br />\n<span style="unicode-bidi: embed\; direction: ltr\; language: en-US\;"><span style="font-family: times new roman\;"><span style="color: black\;">5)</span></span></span>&nbsp\;<span style="font-style: italic\; font-weight: bold\; language: en-US\;">Would you like to </span><span style="font-style: italic\; font-weight: bold\; language: en-US\;"><span style="color: red\;">keep a progressive company image?</span></span><br />\n<span style="unicode-bidi: embed\; direction: ltr\; language: en-US\;"><span style="font-family: times new roman\;"><span style="color: red\;">6)</span></span></span>&nbsp\;<span style="font-style: italic\; font-weight: bold\; language: en-US\;"><span style="color: red\;">Would you like to accomplish these at no cost to you?</span></span></span>\n<h3 style="color: blue\;">\n	<span style="font-size: 18px\;">&nbsp\;<span style="font-family: times new roman\;">You are invited to attend and see how these things can be accomplished!!</span></span></h3>\n
LOCATION:Hilton Gardens Inn 1500 Queen St. Beaufort\, SC
UID:e.1212.5024
SEQUENCE:3
DTSTAMP:20260422T012056Z
URL:http://business.beaufortchamber.org/events/details/event-at-harvard-risk-management-corporation-06-27-2013-5024
END:VEVENT

END:VCALENDAR
