BEGIN:VCALENDAR
VERSION:2.0
PRODID:-//ChamberMaster//Event Calendar 2.0//EN
METHOD:PUBLISH
X-PUBLISHED-TTL:P3D
REFRESH-INTERVAL:P3D
CALSCALE:GREGORIAN
BEGIN:VEVENT
DTSTART:20130815T220000Z
DTEND:20130816T010000Z
X-MICROSOFT-CDO-ALLDAYEVENT:FALSE
SUMMARY:Event at Palmetto Smokehouse & Grill
DESCRIPTION:Steak Night\n12 and 16 oz Rib-eye steak. Dinner includes\, toss salad\, baked potatoe and sweet-tea.\n\nEntertainment will be provided.
X-ALT-DESC;FMTTYPE=text/html:<h3 style="color: blue\;">\n	<strong>Steak Night</strong></h3>\n12 and 16 oz Rib-eye steak. Dinner includes\,&nbsp\;toss salad\, baked potatoe and sweet-tea.<br />\nEntertainment will be provided.<br />\n
LOCATION:PALMETTO SMOKE HOUSE & GRILL\, HWY 170\, Okatie.
UID:e.1212.5097
SEQUENCE:3
DTSTAMP:20260421T214323Z
URL:http://business.beaufortchamber.org/events/details/event-at-palmetto-smokehouse-grill-08-15-2013-5097
END:VEVENT

END:VCALENDAR
