BEGIN:VCALENDAR
VERSION:2.0
PRODID:-//ChamberMaster//Event Calendar 2.0//EN
METHOD:PUBLISH
X-PUBLISHED-TTL:P3D
REFRESH-INTERVAL:P3D
CALSCALE:GREGORIAN
BEGIN:VEVENT
DTSTART:20111207T233000Z
DTEND:20111208T020000Z
X-MICROSOFT-CDO-ALLDAYEVENT:FALSE
SUMMARY:Event at Sweetgrass Restaurant
DESCRIPTION:Sweetgrasss Restaurant Wine Dinner featuring French wines and a rustic French Christmas dinner.
X-ALT-DESC;FMTTYPE=text/html:Sweetgrasss Restaurant Wine Dinner featuring French wines and a rustic French Christmas dinner. 
LOCATION:Sweetgrass Restaurant 100 Marina Dr. St. Helena SC 29920
UID:e.1212.4340
SEQUENCE:3
DTSTAMP:20260423T060145Z
URL:http://business.beaufortchamber.org/events/details/event-at-sweetgrass-restaurant-12-07-2011-4340
END:VEVENT

END:VCALENDAR
