BEGIN:VCALENDAR
VERSION:2.0
PRODID:-//ChamberMaster//Event Calendar 2.0//EN
METHOD:PUBLISH
X-PUBLISHED-TTL:P3D
REFRESH-INTERVAL:P3D
CALSCALE:GREGORIAN
BEGIN:VEVENT
DTSTART:20131011T223000Z
DTEND:20131012T020000Z
X-MICROSOFT-CDO-ALLDAYEVENT:FALSE
SUMMARY:Exchange Club of Beaufort - Ghost Tours
DESCRIPTION:Ghostly spirits are expected to take over downtown Beaufort while the Exchange Club hosts its 21st Annual Ghost Tours beginning Friday\, October 11\, 2013.  Sign up now to take carriage ride or walking tour through Beaufort's Historic Distric while listening to haunting tales of the area.  Tours last about an hour and will run in the evenings of October 11-12\, 18-20 and 25-27.  All proceeds benefit the Child Abuse Prevention Association (CAPA) of Beaufort County.  Reservations strongly suggested\, so call 843-52-GHOST (843.524.4678) or visit the Beaufort Chamber of Commerce.
X-ALT-DESC;FMTTYPE=text/html:Ghostly spirits are expected to take over downtown Beaufort while the Exchange Club hosts its 21st Annual Ghost Tours beginning Friday\, October 11\, 2013.&nbsp\; Sign up now to take carriage ride or walking tour through Beaufort&#39\;s Historic Distric while listening to haunting tales of the area.&nbsp\; Tours last about an hour and will run in the evenings of October 11-12\, 18-20 and 25-27.&nbsp\; All proceeds benefit the Child Abuse Prevention Association (CAPA) of Beaufort County.&nbsp\; Reservations strongly suggested\, so call 843-52-GHOST (843.524.4678) or visit the Beaufort Chamber of Commerce.&nbsp\;
LOCATION:
UID:e.1212.5091
SEQUENCE:3
DTSTAMP:20260421T183330Z
URL:http://business.beaufortchamber.org/events/details/exchange-club-of-beaufort-ghost-tours-10-11-2013-5091
END:VEVENT

END:VCALENDAR
