BEGIN:VCALENDAR
VERSION:2.0
PRODID:-//ChamberMaster//Event Calendar 2.0//EN
METHOD:PUBLISH
X-PUBLISHED-TTL:P3D
REFRESH-INTERVAL:P3D
CALSCALE:GREGORIAN
BEGIN:VEVENT
DTSTART;VALUE=DATE:20091016
DTEND;VALUE=DATE:20091017
TRANSP:TRANSPARENT
X-MICROSOFT-CDO-ALLDAYEVENT:TRUE
SUMMARY:Exchange Club of Beaufort Presents 17th Annual Ghost Tours of Beaufort
DESCRIPTION:Come take a ride on one of our "haunted carriages" and hear some very good ghostly tales !\nCarriage Tours leave every 20 minutes and last about 45 minutes from 6:30 - 8:00\nReservations Recommended\nCost Carriage Tour Adult: $18\nCost Carriage Tour Child 3 - 11: $10\nWalking Tours are not available this weekend\nProceeds benefit the Child Abuse Prevention Association (CAPA) of Beaufort County
X-ALT-DESC;FMTTYPE=text/html:Come take a ride on one of our "haunted carriages" and hear some very good ghostly tales !\nCarriage Tours leave every 20 minutes and last about 45 minutes from 6:30 - 8:00\nReservations Recommended\nCost Carriage Tour Adult: $18\nCost Carriage Tour Child 3 - 11: $10\nWalking Tours are not available this weekend\nProceeds benefit the Child Abuse Prevention Association (CAPA) of Beaufort County
LOCATION:
UID:e.1212.3593
SEQUENCE:3
DTSTAMP:20260424T222041Z
URL:http://business.beaufortchamber.org/events/details/exchange-club-of-beaufort-presents-17th-annual-ghost-tours-of-beaufort-10-16-2009-3593
END:VEVENT

END:VCALENDAR
