BEGIN:VCALENDAR
VERSION:2.0
PRODID:-//ChamberMaster//Event Calendar 2.0//EN
METHOD:PUBLISH
X-PUBLISHED-TTL:P3D
REFRESH-INTERVAL:P3D
CALSCALE:GREGORIAN
BEGIN:VEVENT
DTSTART;VALUE=DATE:20091023
DTEND;VALUE=DATE:20091024
TRANSP:TRANSPARENT
X-MICROSOFT-CDO-ALLDAYEVENT:TRUE
SUMMARY:Exchange Club of Beaufort Presents 17th Annual Ghost Tours of Beaufort
DESCRIPTION:Come take a ride on one of our "haunted carriages or walk along the "haunted streets" and hear some ghostly tales !\nCarriage Tours leave every 20 minutes and last about 45 minutes from 6:30 - 8:00\nWalking Tours leave every 20 minutes and last about 60 minutes starting at 6:50\nReservations Recommended\nCost Carriage Tour Adult: $18\nCost Carriage Tour Child 3 - 11: $10\nCost Walking Tour for All: $10\nWalking Tours not available on Sunday\, October 25\nProceeds benefit the Child Abuse Prevention Association (CAPA) of Beaufort County
X-ALT-DESC;FMTTYPE=text/html:Come take a ride on one of our "haunted carriages or walk along the "haunted streets" and hear some ghostly tales !\nCarriage Tours leave every 20 minutes and last about 45 minutes from 6:30 - 8:00\nWalking Tours leave every 20 minutes and last about 60 minutes starting at 6:50\nReservations Recommended\nCost Carriage Tour Adult: $18\nCost Carriage Tour Child 3 - 11: $10\nCost Walking Tour for All: $10\nWalking Tours not available on Sunday\, October 25\nProceeds benefit the Child Abuse Prevention Association (CAPA) of Beaufort County
LOCATION:
UID:e.1212.3591
SEQUENCE:3
DTSTAMP:20260424T222045Z
URL:http://business.beaufortchamber.org/events/details/exchange-club-of-beaufort-presents-17th-annual-ghost-tours-of-beaufort-10-23-2009-3591
END:VEVENT

END:VCALENDAR
