BEGIN:VCALENDAR
VERSION:2.0
PRODID:-//ChamberMaster//Event Calendar 2.0//EN
METHOD:PUBLISH
X-PUBLISHED-TTL:P3D
REFRESH-INTERVAL:P3D
CALSCALE:GREGORIAN
BEGIN:VEVENT
DTSTART;VALUE=DATE:20090320
DTEND;VALUE=DATE:20090321
TRANSP:TRANSPARENT
X-MICROSOFT-CDO-ALLDAYEVENT:TRUE
SUMMARY:Exploration of Light and Shadow
DESCRIPTION:Beaufort Performing Arts invites you to Mary Grayson Seagers exhibit opening of "Light and Shadow".\n\nExhibit dates: March 13-April 10\, 2009\nOpen Monday - Friday 10am - 5pm\nfree and open to the public
X-ALT-DESC;FMTTYPE=text/html:Beaufort Performing Arts invites you to Mary Grayson Seagers exhibit opening of "Light and Shadow".\n\nExhibit dates: March 13-April 10\, 2009\nOpen Monday - Friday 10am - 5pm\nfree and open to the public
LOCATION:
UID:e.1212.3036
SEQUENCE:3
DTSTAMP:20260425T111532Z
URL:http://business.beaufortchamber.org/events/details/exploration-of-light-and-shadow-03-20-2009-3036
END:VEVENT

END:VCALENDAR
