BEGIN:VCALENDAR
VERSION:2.0
PRODID:-//ChamberMaster//Event Calendar 2.0//EN
METHOD:PUBLISH
X-PUBLISHED-TTL:P3D
REFRESH-INTERVAL:P3D
CALSCALE:GREGORIAN
BEGIN:VEVENT
DTSTART:20140417T180000Z
DTEND:20140417T200000Z
X-MICROSOFT-CDO-ALLDAYEVENT:FALSE
SUMMARY:Expungement & Employment
DESCRIPTION:TCL's PILAU program is hosting a special seminar with SC Works Lowcountry to discuss expungement and employment. Featured Speakers will be Michael Ricks\, Criminal Justice Instructor\, TCL and Phillip Byrd\, Career Development Specialist\, SC Works.
X-ALT-DESC;FMTTYPE=text/html:<span style="font: 15px/normal Calibri\, sans-serif\; color: rgb(34\, 34\, 34)\; text-transform: none\; text-indent: 0px\; letter-spacing: normal\; word-spacing: 0px\; float: none\; display: inline !important\; white-space: normal\; font-size-adjust: none\; font-stretch: normal\; background-color: rgb(255\, 255\, 255)\; -webkit-text-stroke-width: 0px\;">TCL&rsquo\;s PILAU program is hosting a special seminar with SC Works Lowcountry</span><span style="font: 15px/normal Calibri\, sans-serif\; color: rgb(34\, 34\, 34)\; text-transform: none\; text-indent: 0px\; letter-spacing: normal\; word-spacing: 0px\; float: none\; display: inline !important\; white-space: normal\; font-size-adjust: none\; font-stretch: normal\; background-color: rgb(255\, 255\, 255)\; -webkit-text-stroke-width: 0px\;"> to discuss expungement and employment. Featured Speakers will be Michael Ricks\, Criminal Justice Instructor\, TCL and Phillip Byrd\, Career Development Specialist\, SC Works.</span>
LOCATION:TCL Beaufort Campus Building 14\, Room 101
UID:e.1212.5326
SEQUENCE:3
DTSTAMP:20260421T084358Z
URL:http://business.beaufortchamber.org/events/details/expungement-employment-04-17-2014-5326
END:VEVENT

END:VCALENDAR
