BEGIN:VCALENDAR
VERSION:2.0
PRODID:-//ChamberMaster//Event Calendar 2.0//EN
METHOD:PUBLISH
X-PUBLISHED-TTL:P3D
REFRESH-INTERVAL:P3D
CALSCALE:GREGORIAN
BEGIN:VEVENT
DTSTART;VALUE=DATE:20131025
DTEND;VALUE=DATE:20131028
TRANSP:TRANSPARENT
X-MICROSOFT-CDO-ALLDAYEVENT:TRUE
SUMMARY:Fall Festival of Houses - Historic Beaufort Foundation
DESCRIPTION:Fall Festival of Houses and Gardens\, October 25 - 27\n\n	 \n\n	This annual three-day festival offers visitors a rare glimpse at private historic homes\, gardens and plantations that are typically closed to the public. During the festival\, three tours will be available that celebrate Beaufort's more than 300 years of architecture. Tours include a Walking Tour\, a Ramble Around Beaufort Tour\, and a Kitchens & Cuisine Tour.\n\n	 \n\n	 \n\n	Visit the Historic Beaufort Foundation web site for more information! www.historicbeaufort.org or call 843-379-3331
X-ALT-DESC;FMTTYPE=text/html:<p>\n	<br />\n	<strong><u><span style="font-family: calibri\,sans-serif\;"><span style="color: rgb(0\, 110\, 109)\;"><a href="http://r20.rs6.net/tn.jsp?e=0019Qn5QoVFbWFb45YdLM-gXzOx4jiNDScpBkFcHsjQ2UNQlxgCT23VexIFsWYzxh-5TuFL-m4Lo_kMkovifKSYdj9K77nJCfAaQ2jNlXWJCgOYBbftXImS6aUbwEYVM9RvH1MokFw0XP0=" target="_blank"><span style="color: rgb(0\, 110\, 109)\;"><span style="font-size: medium\;">F</span></span></a></span></span><span style="font-size: medium\;">all Festival of Houses and Gardens\, October 25 - 27</span></u></strong><br />\n	&nbsp\;<br />\n	<span style="font-family: calibri\,sans-serif\;"><span style="color: black\;"><span style="font-size: medium\;">This </span></span><a href="http://r20.rs6.net/tn.jsp?e=0019Qn5QoVFbWEUQ6kXQxT6P7DT6vaQu5igkwy51IzYptVumV3y1xyJ26N73WZdUunkinLje8gWS7cJMyuSMfZMelYEyJs4s1OZufS8N9hEYC1kqfVA_0GwTbEY_BscaauDu1OAOkt4tFKqVo_V91k-aLLFSfBnhsLmjexsQCcNG4jb-iiTxnSK_2jJDBHYoLVXbPcaWxToKXet0RpWu1ajunSL_DslsuxC7N7N4aPYDMh-YlBY1Z88ukA9NLPukvpT" linktype="1" shape="rect" target="_blank" track="on"><span style="font-size: medium\;"><span style="color: rgb(0\, 0\, 255)\;">annual three-day festival</span></span></a></span><span style="font-size: medium\;"> offers visitors a rare glimpse at private historic homes\, gardens and plantations that are typically closed to the public. During the festival\, three tours will be available that celebrate Beaufort&#39\;s more than 300 years of architecture. Tours include a Walking Tour\, a Ramble Around Beaufort Tour\, and a Kitchens &amp\; Cuisine Tour.</span><br />\n	&nbsp\;</p>\n<p>\n	&nbsp\;</p>\n<p>\n	Visit the Historic Beaufort Foundation web site for more information! www.historicbeaufort.org or call 843-379-3331</p>\n
LOCATION:
UID:e.1212.4975
SEQUENCE:3
DTSTAMP:20260421T182722Z
URL:http://business.beaufortchamber.org/events/details/fall-festival-of-houses-historic-beaufort-foundation-10-25-2013-4975
END:VEVENT

END:VCALENDAR
