BEGIN:VCALENDAR
VERSION:2.0
PRODID:-//ChamberMaster//Event Calendar 2.0//EN
METHOD:PUBLISH
X-PUBLISHED-TTL:P3D
REFRESH-INTERVAL:P3D
CALSCALE:GREGORIAN
BEGIN:VEVENT
DTSTART:20121020T160000Z
DTEND:20121020T210000Z
X-MICROSOFT-CDO-ALLDAYEVENT:FALSE
SUMMARY:Festival of the Sea - Port Royal\, SC
DESCRIPTION:ARRRGH! This year it is a Pirate Themed Festival. Admission is FREE. Join us on Paris Avenue in the Old Village of Port Royal on Saturday\, October 20th from noon to 5:00pm. \n\n	The 3K Walk the Plank for CODA will kick off the Festival. Live music and radio remotes. Enjoy seafood\, burgers\, BBQ and more\, with your favorite cold beverages. Visit the local shops and check out our craft and artisan booths. Collector Car Display\, kid activities and much more! Don't miss this opportunity to visit the Pirates of Port Royal\, or become one of them. Remember to bring your eye patch! www.oldvillageportroyal.com
X-ALT-DESC;FMTTYPE=text/html:ARRRGH! This year it is a Pirate Themed Festival. Admission is FREE. Join us on Paris Avenue in the Old Village of Port Royal on Saturday\, October 20<sup><font size="2">th</font></sup> from noon to 5:00pm.<span> </span>\n<div>\n	The 3K Walk the Plank for CODA will kick off the Festival. Live music and radio remotes. Enjoy seafood\, burgers\, BBQ and more\, with your favorite cold beverages. Visit the local shops and check out our craft and artisan booths. Collector Car Display\, kid activities and much more! Don&rsquo\;t miss this opportunity to visit the Pirates of Port Royal\, or become one of them. Remember to bring your eye patch! <a href="http://www.oldvillageportroyal.com/"><span>www.oldvillageportroyal.com</span></a></div>\n
LOCATION:
UID:e.1212.4555
SEQUENCE:3
DTSTAMP:20260422T152131Z
URL:http://business.beaufortchamber.org/events/details/festival-of-the-sea-port-royal-sc-10-20-2012-4555
END:VEVENT

END:VCALENDAR
