BEGIN:VCALENDAR
VERSION:2.0
PRODID:-//ChamberMaster//Event Calendar 2.0//EN
METHOD:PUBLISH
X-PUBLISHED-TTL:P3D
REFRESH-INTERVAL:P3D
CALSCALE:GREGORIAN
BEGIN:VEVENT
DTSTART;VALUE=DATE:20131205
DTEND;VALUE=DATE:20131208
TRANSP:TRANSPARENT
X-MICROSOFT-CDO-ALLDAYEVENT:TRUE
SUMMARY:Festival of Trees
DESCRIPTION:The Annual Festival of Trees to benefit The FRIENDS of Caroline HOSPICE will be held December 5-7\, 2013 at The Shed in Port Royal. The Opening Gala will be Thursday\, December 5th from 6-9:30pm. Trees will be available for viewing on December 7th and 8th from 9am-4pm. There will be a silent auction\, valet parking\, gifts\, gourmet food items for sale and hundreds of trees decorated by individuals\, organizations and businesses in the Beaufort area. For more information\, please call (843) 525-6257 or visit www.friendsofcarolinehospice.com.
X-ALT-DESC;FMTTYPE=text/html:The Annual Festival of Trees to benefit The FRIENDS of Caroline HOSPICE will be held December 5-7\, 2013 at The Shed in Port Royal. The Opening Gala will be Thursday\, December 5th from 6-9:30pm. Trees will be available for viewing on December 7th and 8th from 9am-4pm. There will be a silent auction\, valet parking\, gifts\, gourmet food items for sale and hundreds of trees decorated by individuals\, organizations and businesses in the Beaufort area. For more information\, please call (843) 525-6257 or visit www.friendsofcarolinehospice.com.
LOCATION:The Shed in Port Royal
UID:e.1212.5019
SEQUENCE:3
DTSTAMP:20260421T145951Z
URL:http://business.beaufortchamber.org/events/details/festival-of-trees-12-05-2013-5019
END:VEVENT

END:VCALENDAR
