BEGIN:VCALENDAR
VERSION:2.0
PRODID:-//ChamberMaster//Event Calendar 2.0//EN
METHOD:PUBLISH
X-PUBLISHED-TTL:P3D
REFRESH-INTERVAL:P3D
CALSCALE:GREGORIAN
BEGIN:VEVENT
DTSTART:20120727T220000Z
DTEND:20120728T010000Z
X-MICROSOFT-CDO-ALLDAYEVENT:FALSE
SUMMARY:Festival of Trees - Jingle Jog 5K and Christmas in July
DESCRIPTION:Join us for the Jingle Jog 5K and Christmas in July kick-off event for Festival of Trees Benefiting FRIENDS of Caroline Hospice\, a Family FUN Event on Friday:\n\n	* Jingle Jog 5K Run/Walk & 1M Fun Walk (Onsite registration starts at 5:30pm Race starts at 6pm - additional fees apply to participate in this)\n\n	* SNOW - Yes! Snow in July from 7-9pm\n\n	* Entertainment by Drysdale Entertainment\n\n	* Swimming\n\n	* Water Slides
X-ALT-DESC;FMTTYPE=text/html:<p style="margin: 0in 0in 0pt">\n	<span style="font-family: 'Calibri'\, 'sans-serif'\; color: #245b7c\; font-size: 11pt">Join us for the Jingle Jog 5K and Christmas in July kick-off event for Festival of Trees Benefiting FRIENDS of Caroline Hospice\, a Family FUN Event on Friday:<o:p></o:p></span></p>\n<p style="margin: 0in 0in 0pt">\n	<span style="font-family: 'Calibri'\, 'sans-serif'\; color: #245b7c\; font-size: 11pt">* Jingle Jog 5K Run/Walk &amp\; 1M Fun Walk (Onsite registration starts at 5:30pm Race starts at 6pm - additional fees apply to participate in this)<o:p></o:p></span></p>\n<p style="margin: 0in 0in 0pt">\n	<span style="font-family: 'Calibri'\, 'sans-serif'\; color: #245b7c\; font-size: 11pt">* SNOW - Yes! Snow in July from 7-9pm<o:p></o:p></span></p>\n<p style="margin: 0in 0in 0pt">\n	<span style="font-family: 'Calibri'\, 'sans-serif'\; color: #245b7c\; font-size: 11pt">* Entertainment by Drysdale Entertainment<o:p></o:p></span></p>\n<p style="margin: 0in 0in 0pt">\n	<span style="font-family: 'Calibri'\, 'sans-serif'\; color: #245b7c\; font-size: 11pt">* Swimming<o:p></o:p></span></p>\n<p style="margin: 0in 0in 0pt">\n	<span style="font-family: 'Calibri'\, 'sans-serif'\; color: #245b7c\; font-size: 11pt">* Water Slides<o:p></o:p></span></p>\n
LOCATION:Coosaw Point River Club\, 20 The Horsehoe\, Beaufort\, SC 29907
UID:e.1212.4564
SEQUENCE:3
DTSTAMP:20260422T191440Z
URL:http://business.beaufortchamber.org/events/details/festival-of-trees-jingle-jog-5k-and-christmas-in-july-07-27-2012-4564
END:VEVENT

END:VCALENDAR
