BEGIN:VCALENDAR
VERSION:2.0
PRODID:-//ChamberMaster//Event Calendar 2.0//EN
METHOD:PUBLISH
X-PUBLISHED-TTL:P3D
REFRESH-INTERVAL:P3D
CALSCALE:GREGORIAN
BEGIN:VEVENT
DTSTART:20131003T230000Z
DTEND:20131004T020000Z
X-MICROSOFT-CDO-ALLDAYEVENT:FALSE
SUMMARY:Fiesta Mexicana
DESCRIPTION:Por favor... join us for a Fiesta Fabulosa! Escape to a lush and lively destination where music and magic create a one-of-a-kind Pee Dee paradise for you and your GSSM amigos at our annual international cocktail party excursion.
X-ALT-DESC;FMTTYPE=text/html:<em><strong>Por favor... </strong></em>join us for a <strong>Fiesta Fabulosa</strong>! Escape to a lush and lively destination where music and magic create a one-of-a-kind Pee Dee paradise for you and your GSSM amigos at our annual international cocktail party excursion.
LOCATION:GSSM Lawn 401 Railroad Avenue Hartsville\, SC 29550
UID:e.1212.5100
SEQUENCE:3
DTSTAMP:20260421T182046Z
URL:http://business.beaufortchamber.org/events/details/fiesta-mexicana-10-03-2013-5100
END:VEVENT

END:VCALENDAR
