BEGIN:VCALENDAR
VERSION:2.0
PRODID:-//ChamberMaster//Event Calendar 2.0//EN
METHOD:PUBLISH
X-PUBLISHED-TTL:P3D
REFRESH-INTERVAL:P3D
CALSCALE:GREGORIAN
BEGIN:VEVENT
DTSTART:20131207T140000Z
DTEND:20131207T220000Z
X-MICROSOFT-CDO-ALLDAYEVENT:FALSE
SUMMARY:First Time Homebuyer Training
DESCRIPTION:Consumer Credit Counseling Service\, and the Lowcountry Housing Trust invite you to attend a First Time Homebuyer Training on Saturday\, December 7\, 2013 from 9:00 am until 5:00 pm. This certificate class is for 8 full hours so you must be on-time. Consumer Credit Counseling Service will provide information on the steps to take in purchasing a home\, from credit to moving in. Information on budgeting\, home inspections\, moving preparations\, and closing will be presented. Each attendee will receive a certificate of completion\, and lunch will be provided. Parents are asked not to bring children to the training. Child care will not be provided.(Realtors are asked not to attend this class - thank you!)
X-ALT-DESC;FMTTYPE=text/html:<p>\n	&nbsp\;</p>\n<p>\n	<font size="4">Consumer Credit Counseling Service\, and the Lowcountry Housing Trust invite you to attend a First Time Homebuyer Training on Saturday\, </font><font face="Calibri\,Calibri" size="4"><font face="Calibri\,Calibri" size="4">December 7</font></font><font size="4">\, 2013 from 9:00 am until 5:00 pm. </font><font face="Calibri\,Calibri" size="4"><font face="Calibri\,Calibri" size="4">Th</font></font><font face="Calibri\,Calibri" size="4"><font face="Calibri\,Calibri" size="4">is certificate </font></font><font face="Calibri\,Calibri" size="4"><font face="Calibri\,Calibri" size="4">class is for 8 full hours </font></font><font face="Calibri\,Calibri" size="4"><font face="Calibri\,Calibri" size="4">so </font></font><font face="Calibri\,Calibri" size="4"><font face="Calibri\,Calibri" size="4">you must be on-time. </font></font><font size="4">C</font><font face="Calibri\,Calibri" size="4"><font face="Calibri\,Calibri" size="4">onsumer Credit Counseling Service </font></font><font size="4">will provide information on the steps to take in purchasing a home\, from credit to moving in. Information on budgeting\, home inspections\, moving preparations\, and closing w</font><font face="Calibri\,Calibri" size="4"><font face="Calibri\,Calibri" size="4">ill </font></font><font size="4">be presented. Each attendee will receive a certificate of completion\, and lunch </font><font face="Calibri\,Calibri" size="4"><font face="Calibri\,Calibri" size="4">will be </font></font><font size="4">provided. </font><font face="Calibri\,Calibri" size="4"><font face="Calibri\,Calibri" size="4">Parents are asked not to bring children to the training. Child care will not be provided.</font></font><font face="Calibri\,Calibri" size="4"><font face="Calibri\,Calibri" size="4">(Realtors are asked not to attend this class - thank you!)</font></font></p>\n
LOCATION:The Arsenal 713 Craven Street Beaufort\, SC 29902
UID:e.1212.5122
SEQUENCE:3
DTSTAMP:20260421T145537Z
URL:http://business.beaufortchamber.org/events/details/first-time-homebuyer-training-12-07-2013-5122
END:VEVENT

END:VCALENDAR
