BEGIN:VCALENDAR
VERSION:2.0
PRODID:-//ChamberMaster//Event Calendar 2.0//EN
METHOD:PUBLISH
X-PUBLISHED-TTL:P3D
REFRESH-INTERVAL:P3D
CALSCALE:GREGORIAN
BEGIN:VEVENT
DTSTART:20130528T190000Z
DTEND:20130528T200000Z
X-MICROSOFT-CDO-ALLDAYEVENT:FALSE
SUMMARY:Five Key Risks of Retirement
DESCRIPTION:Plan now to attend this special event.\n\n\n\nAmerica's Lifetime Income Challenge - Five Key Risks of Retirement\n\nScott Cicerone\, Regional Vice President\, Fidelity Financial Advisor Solutions\n\n\n\nGain essential knowledge to help you make more confident financial decisions.  Bring your questions and bring a friend - there's no cost or obligation.\n\n\n\n3 pm Tuesday\, May 28th\, 2013\n\nThe Beaufort Arsenal\, 713 Craven Street\, Beaufort\n\n\n\nSpace is limited - please let us know that you'll attend.\n\n\n\nCall Lindsay Russell at 843.521.1128 or email  larussell@firstcommand.com\n\n\n\nRefreshments will be served.
X-ALT-DESC;FMTTYPE=text/html:Plan now to attend this special event.<br />\n<br />\nAmerica&#39\;s Lifetime Income Challenge - Five Key Risks of Retirement<br />\nScott Cicerone\, Regional Vice President\, Fidelity Financial Advisor Solutions<br />\n<br />\nGain essential knowledge to help you make more confident financial decisions.&nbsp\; Bring your questions and bring a friend - there&#39\;s no cost or obligation.<br />\n<br />\n3 pm Tuesday\, May 28th\, 2013<br />\nThe Beaufort Arsenal\, 713 Craven Street\, Beaufort<br />\n<br />\nSpace is limited - please let us know that you&#39\;ll attend.<br />\n<br />\nCall Lindsay Russell at 843.521.1128 or email&nbsp\; larussell@firstcommand.com<br />\n<br />\nRefreshments will be served.
LOCATION:
UID:e.1212.4994
SEQUENCE:3
DTSTAMP:20260422T050721Z
URL:http://business.beaufortchamber.org/events/details/five-key-risks-of-retirement-05-28-2013-4994
END:VEVENT

END:VCALENDAR
