BEGIN:VCALENDAR
VERSION:2.0
PRODID:-//ChamberMaster//Event Calendar 2.0//EN
METHOD:PUBLISH
X-PUBLISHED-TTL:P3D
REFRESH-INTERVAL:P3D
CALSCALE:GREGORIAN
BEGIN:VEVENT
DTSTART:20120614T223000Z
DTEND:20120614T223000Z
X-MICROSOFT-CDO-ALLDAYEVENT:FALSE
SUMMARY:Flag Day Celebration
DESCRIPTION:Patriotic Celebration\n\nOn Thursday\, June 14\, 2012\, our American Flag will be 235 years old.  In honor of this event\, the Knights of Columbus will sponsor a birthday celebration at Waterfront Park in Beaufort.  Festivities will begin at 6:30pm.  Come early\; bring the family\, lawn chairs\, picnic baskets and blankets.  Be prepared to be uplifted.  Be prepared to feel proud.  Proud to be an American.
X-ALT-DESC;FMTTYPE=text/html:Patriotic Celebration<br />\nOn Thursday\, June 14\, 2012\, our American Flag will be 235 years old.&nbsp\; In honor of this event\, the Knights of Columbus will sponsor a birthday celebration at Waterfront Park in Beaufort.&nbsp\; Festivities will begin at 6:30pm.&nbsp\; Come early\; bring the family\, lawn chairs\, picnic baskets and blankets.&nbsp\; Be prepared to be uplifted.&nbsp\; Be prepared to feel proud.&nbsp\; Proud to be an American.
LOCATION:Waterfront Park\, Beaufort\, South Carolina
UID:e.1212.4529
SEQUENCE:3
DTSTAMP:20260422T204611Z
URL:http://business.beaufortchamber.org/events/details/flag-day-celebration-06-14-2012-4529
END:VEVENT

END:VCALENDAR
