BEGIN:VCALENDAR
VERSION:2.0
PRODID:-//ChamberMaster//Event Calendar 2.0//EN
METHOD:PUBLISH
X-PUBLISHED-TTL:P3D
REFRESH-INTERVAL:P3D
CALSCALE:GREGORIAN
BEGIN:VEVENT
DTSTART;VALUE=DATE:20090724
DTEND;VALUE=DATE:20090725
TRANSP:TRANSPARENT
X-MICROSOFT-CDO-ALLDAYEVENT:TRUE
SUMMARY:Fordham Market - Birthday Celebration
DESCRIPTION:We would like to begin our sixth year by saying "Thank You" for your patronage and support.  We would like to invite all our "Friends\, Neighbors and Visitors" to please join us in celebrating our 5th Anniversary.
X-ALT-DESC;FMTTYPE=text/html:We would like to begin our sixth year by saying "Thank You" for your patronage and support.  We would like to invite all our "Friends\, Neighbors and Visitors" to please join us in celebrating our 5th Anniversary.
LOCATION:
UID:e.1212.3367
SEQUENCE:3
DTSTAMP:20260425T024959Z
URL:http://business.beaufortchamber.org/events/details/fordham-market-birthday-celebration-07-24-2009-3367
END:VEVENT

END:VCALENDAR
