BEGIN:VCALENDAR
VERSION:2.0
PRODID:-//ChamberMaster//Event Calendar 2.0//EN
METHOD:PUBLISH
X-PUBLISHED-TTL:P3D
REFRESH-INTERVAL:P3D
CALSCALE:GREGORIAN
BEGIN:VEVENT
DTSTART;VALUE=DATE:20130316
DTEND;VALUE=DATE:20130317
TRANSP:TRANSPARENT
X-MICROSOFT-CDO-ALLDAYEVENT:TRUE
SUMMARY:Four Freshman Benefit Event
DESCRIPTION:The Four Freshmen Benefit Event\n\nMarch 16\, 2013   5pm and 8pm\n\nOne Sensational Night\, Two Incredible Shows! The Four Freshmen headline concerts around the globe from Moscow to Manhattan with a repertoire that includes a variety of pop and jazz standards from the Great American Songbook Classics including "Stardust\," "Cherish\," "Mood Indigo\," "Blue World\," "Angel Eyes\," "Graduation Day\," and everyone's favorite\, "Route 66." With smooth vocal harmony like no other\, the Four Freshmen are recognized as one of the most influential vocal groups of all time.  Join us for this special benefit performance that promises to be an unforgettable evening of music you know and love! Brian Wilson founder of the Beach Boys says "I have loved the Freshmen harmonies since the first time I heard them. They are my favorite band to watch perform live."\n\nArts Center of Coastal Carolina\, 14 Shelter Cove Lane\, Hilton Head\, SC\n\n$50 all tickets (includes champagne)\n\nBox Office: 843-842-ARTS or https://tickets.artshhi.com\n\nwww.artshhi.com
X-ALT-DESC;FMTTYPE=text/html:<span style="font-size: medium\;"><strong><span style="font-family: arial\,sans-serif\;">The Four Freshmen Benefit Event</span></strong></span><br />\n<span style="font-size: medium\;"><strong><span style="font-family: arial\,sans-serif\;">March 16\, 2013&nbsp\;&nbsp\; 5pm and 8pm</span></strong></span><br />\n<span style="font-size: medium\;"><span style="font-family: arial\,sans-serif\;"><span style="color: black\;">One Sensational Night\, Two Incredible Shows! The Four Freshmen headline concerts around the globe from Moscow to Manhattan with a repertoire that includes a variety of pop and jazz standards from the Great American Songbook Classics including &ldquo\;Stardust\,&rdquo\; &ldquo\;Cherish\,&rdquo\; &ldquo\;Mood Indigo\,&rdquo\; &ldquo\;Blue World\,&rdquo\; &ldquo\;Angel Eyes\,&rdquo\; &ldquo\;Graduation Day\,&rdquo\; and everyone&#39\;s favorite\, &ldquo\;Route 66.&rdquo\; With smooth vocal harmony like no other\, the Four Freshmen are recognized as one of the most influential vocal groups of all time. &nbsp\;Join us for this special benefit performance that promises to be an unforgettable evening of music you know and love! Brian Wilson founder of the Beach Boys says &ldquo\;I have loved the Freshmen harmonies since the first time I heard them. They are my favorite band to watch perform live.&rdquo\;</span></span></span><br />\n<span style="font-size: 12pt\;"><span style="font-family: arial\,sans-serif\;">Arts Center of Coastal Carolina\, 14 Shelter Cove Lane\, Hilton Head\, SC</span></span><br />\n<span style="font-size: 12pt\;"><span style="font-family: arial\,sans-serif\;">$50 all tickets (includes champagne)</span></span><br />\n<span style="font-size: 12pt\;"><span style="font-family: arial\,sans-serif\;">Box Office: 843-842-ARTS or </span><a href="https://tickets.artshhi.com/"><span style="color: rgb(0\, 0\, 255)\;">https://tickets.artshhi.com</span></a></span><br />\n<span style="font-size: medium\;"><span style="font-size: 12pt\;"><span style="font-family: arial\,sans-serif\;"><a href="http://www.artshhi.com/" title="http://www.artshhi.com/"><span style="color: rgb(0\, 0\, 255)\;">www.artshhi.com</span></a></span></span></span>
LOCATION:Arts Center of Hilton Head
UID:e.1212.4933
SEQUENCE:3
DTSTAMP:20260422T065630Z
URL:http://business.beaufortchamber.org/events/details/four-freshman-benefit-event-03-16-2013-4933
END:VEVENT

END:VCALENDAR
